BEGIN:VCALENDAR
VERSION:2.0
PRODID:-//Literatur- und Kunstkreis Uslar e. V.//NONSGML kigkonsult.se iCalcreator 2.41.92//
CALSCALE:GREGORIAN
METHOD:PUBLISH
UID:37303161-3035-4463-b138-313962303638
X-WR-CALNAME:iCagenda
X-WR-CALDESC:Event Management Extension for Joomla!
X-WR-RELCALID:3E26604A-50F4-4449-8B3E-E4F4932D05B5
X-WR-TIMEZONE:Europe/Berlin
BEGIN:VTIMEZONE
TZID:Europe/Berlin
TZUNTIL:20121028T010000Z
BEGIN:STANDARD
TZNAME:CET
DTSTART:20101031T030000
TZOFFSETFROM:+0200
TZOFFSETTO:+0100
RDATE:20111030T030000
END:STANDARD
BEGIN:DAYLIGHT
TZNAME:CEST
DTSTART:20110327T020000
TZOFFSETFROM:+0100
TZOFFSETTO:+0200
RDATE:20120325T020000
END:DAYLIGHT
END:VTIMEZONE
BEGIN:VEVENT
UID:30356461-3264-4338-a237-626562393065
DTSTAMP:20260422T150402Z
CATEGORIES:2011
CLASS:PUBLIC
DESCRIPTION:
DTSTART:20110409T180000Z
DTEND:20110409T180000Z
GEO:+51.65844;+9.633342
LOCATION:St. Johanniskirche
ORGANIZER:
SEQUENCE:1
SUMMARY:Obertonchor Spektrum Prag
TRANSP:OPAQUE
URL:https://literatur-kunstkreis-uslar.de/index.php/programm/archiv/22-ober
 tonchor-spektrum-prag
END:VEVENT
END:VCALENDAR
