BEGIN:VCALENDAR
VERSION:2.0
PRODID:-//Literatur- und Kunstkreis Uslar e. V.//NONSGML kigkonsult.se iCalcreator 2.41.92//
CALSCALE:GREGORIAN
METHOD:PUBLISH
UID:32636336-3963-4363-b731-613161613637
X-WR-CALNAME:iCagenda
X-WR-CALDESC:Event Management Extension for Joomla!
X-WR-RELCALID:3E26604A-50F4-4449-8B3E-E4F4932D05B5
X-WR-TIMEZONE:Europe/Berlin
BEGIN:VTIMEZONE
TZID:Europe/Berlin
TZUNTIL:20130331T010000Z
BEGIN:STANDARD
TZNAME:CET
DTSTART:20101031T030000
TZOFFSETFROM:+0200
TZOFFSETTO:+0100
RDATE:20111030T030000
RDATE:20121028T030000
END:STANDARD
BEGIN:DAYLIGHT
TZNAME:CEST
DTSTART:20110327T020000
TZOFFSETFROM:+0100
TZOFFSETTO:+0200
RDATE:20120325T020000
END:DAYLIGHT
END:VTIMEZONE
BEGIN:VEVENT
UID:34326365-6234-4261-b337-356435393834
DTSTAMP:20260422T150716Z
CATEGORIES:2011
CLASS:PUBLIC
DESCRIPTION;ALTREP="CID:<FFFF__=0ABBE548DFE235B58f9e8a93d@coffeebean.com>":
 'Der Angeklagte trägt die Kisten des Verfahrens'\n
DTSTART:20110513T180000Z
DTEND:20110513T180000Z
GEO:+51.658913;+9.635064
LOCATION:Romantisches Hotel Menzhausen
ORGANIZER:
SEQUENCE:1
SUMMARY:Juristische Stilblüten\, Parodie & Comedy
TRANSP:OPAQUE
URL:https://literatur-kunstkreis-uslar.de/index.php/programm/archiv/23-juri
 stische-stilblueten-parodie-comedy
END:VEVENT
END:VCALENDAR
