BEGIN:VCALENDAR
VERSION:2.0
PRODID:-//Literatur- und Kunstkreis Uslar e. V.//NONSGML kigkonsult.se iCalcreator 2.41.92//
CALSCALE:GREGORIAN
METHOD:PUBLISH
UID:65323933-3132-4638-b035-633864656561
X-WR-CALNAME:iCagenda
X-WR-CALDESC:Event Management Extension for Joomla!
X-WR-RELCALID:3E26604A-50F4-4449-8B3E-E4F4932D05B5
X-WR-TIMEZONE:Europe/Berlin
BEGIN:VTIMEZONE
TZID:Europe/Berlin
TZUNTIL:20131027T010000Z
BEGIN:STANDARD
TZNAME:CET
DTSTART:20111030T030000
TZOFFSETFROM:+0200
TZOFFSETTO:+0100
RDATE:20121028T030000
END:STANDARD
BEGIN:DAYLIGHT
TZNAME:CEST
DTSTART:20110327T020000
TZOFFSETFROM:+0100
TZOFFSETTO:+0200
RDATE:20120325T020000
RDATE:20130331T020000
END:DAYLIGHT
END:VTIMEZONE
BEGIN:VEVENT
UID:35666432-3262-4436-a639-613562396639
DTSTAMP:20260422T150418Z
CATEGORIES:2011
CLASS:PUBLIC
DESCRIPTION;ALTREP="CID:<FFFF__=0ABBE548DFE235B58f9e8a93d@coffeebean.com>":
 Göttinger Generationen-KabarettVerheißungen und Weissagungen zur Lage der 
 Nation\nHinweis:Die Veranstaltung wurde vom 18.03.2011 verlegt. Für diesen
 Termin erworbene Karten behalten ihre Gültigkeit.
DTSTART:20111111T190000Z
DTEND:20111111T190000Z
GEO:+51.654633;+9.655201
LOCATION:Kulturbahnhof Uslar
ORGANIZER:
SEQUENCE:1
SUMMARY:Die Pawlowskis - forte
TRANSP:OPAQUE
URL:https://literatur-kunstkreis-uslar.de/index.php/programm/archiv/27-die-
 pawlowskis-forte
END:VEVENT
END:VCALENDAR
