BEGIN:VCALENDAR
VERSION:2.0
PRODID:-//Literatur- und Kunstkreis Uslar e. V.//NONSGML kigkonsult.se iCalcreator 2.41.92//
CALSCALE:GREGORIAN
METHOD:PUBLISH
UID:39613533-6638-4763-b266-303866656231
X-WR-CALNAME:iCagenda
X-WR-CALDESC:Event Management Extension for Joomla!
X-WR-RELCALID:3E26604A-50F4-4449-8B3E-E4F4932D05B5
X-WR-TIMEZONE:Europe/Berlin
BEGIN:VTIMEZONE
TZID:Europe/Berlin
TZUNTIL:20131027T010000Z
BEGIN:STANDARD
TZNAME:CET
DTSTART:20111030T030000
TZOFFSETFROM:+0200
TZOFFSETTO:+0100
RDATE:20121028T030000
END:STANDARD
BEGIN:DAYLIGHT
TZNAME:CEST
DTSTART:20110327T020000
TZOFFSETFROM:+0100
TZOFFSETTO:+0200
RDATE:20120325T020000
RDATE:20130331T020000
END:DAYLIGHT
END:VTIMEZONE
BEGIN:VEVENT
UID:36333031-6235-4031-b739-623636656662
DTSTAMP:20260422T150658Z
CATEGORIES:2012
CLASS:PUBLIC
DESCRIPTION:
DTSTART:20120120T183000Z
DTEND:20120120T183000Z
GEO:+51.658913;+9.635064
LOCATION:Romantisches Hotel Menzhausen
ORGANIZER:
SEQUENCE:1
SUMMARY:Glenn Wallbaum: 'Glossen für Zeitgenossen'
TRANSP:OPAQUE
URL:https://literatur-kunstkreis-uslar.de/index.php/programm/archiv/29-glen
 n-wallbaum-glossen-fuer-zeitgenossen
END:VEVENT
END:VCALENDAR
