BEGIN:VCALENDAR
VERSION:2.0
PRODID:-//Literatur- und Kunstkreis Uslar e. V.//NONSGML kigkonsult.se iCalcreator 2.41.92//
CALSCALE:GREGORIAN
METHOD:PUBLISH
UID:38633437-3034-4839-a263-383139633238
X-WR-CALNAME:iCagenda
X-WR-CALDESC:Event Management Extension for Joomla!
X-WR-RELCALID:3E26604A-50F4-4449-8B3E-E4F4932D05B5
X-WR-TIMEZONE:Europe/Berlin
BEGIN:VTIMEZONE
TZID:Europe/Berlin
TZUNTIL:20131027T010000Z
BEGIN:STANDARD
TZNAME:CET
DTSTART:20111030T030000
TZOFFSETFROM:+0200
TZOFFSETTO:+0100
RDATE:20121028T030000
END:STANDARD
BEGIN:DAYLIGHT
TZNAME:CEST
DTSTART:20110327T020000
TZOFFSETFROM:+0100
TZOFFSETTO:+0200
RDATE:20120325T020000
RDATE:20130331T020000
END:DAYLIGHT
END:VTIMEZONE
BEGIN:VEVENT
UID:35313635-6364-4964-a535-333730396539
DTSTAMP:20260422T150823Z
CATEGORIES:2012
CLASS:PUBLIC
DESCRIPTION;ALTREP="CID:<FFFF__=0ABBE548DFE235B58f9e8a93d@coffeebean.com>":
 \nDer Geist der Mirabelle – Geschichten aus Bollerup\n\n \nKarten bzw. Anm
 eldungen für die o.g. Veranstaltung (LuK und Förderverein Klosterkirche) s
 ind NUR an der Klosterpforte Lippoldsberg möglich.\nWeitere Informationen:
 \nTel.: 05572-999226 E-Mail: klosterpforte@klosterkirche.de http://www.klo
 sterkirche.de/kirche/freunde/klosterpforte.php
DTSTART:20120225T180000Z
DTEND:20120225T180000Z
GEO:+51.625259;+9.557895
LOCATION:Klosterkeller Lippoldsberg
ORGANIZER:
SEQUENCE:1
SUMMARY:Justus Pahlow 'Der Geist der Mirabelle – Geschichten aus Bollerup' 
 von Siegfried Lenz
TRANSP:OPAQUE
URL:https://literatur-kunstkreis-uslar.de/index.php/programm/archiv/30-just
 us-pahlow-der-geist-der-mirabelle-geschichten-aus-bollerup-von-siegfried-l
 enz
END:VEVENT
END:VCALENDAR
