BEGIN:VCALENDAR
VERSION:2.0
PRODID:-//Literatur- und Kunstkreis Uslar e. V.//NONSGML kigkonsult.se iCalcreator 2.41.92//
CALSCALE:GREGORIAN
METHOD:PUBLISH
UID:65386162-6532-4134-b935-316638623533
X-WR-CALNAME:iCagenda
X-WR-CALDESC:Event Management Extension for Joomla!
X-WR-RELCALID:3E26604A-50F4-4449-8B3E-E4F4932D05B5
X-WR-TIMEZONE:Europe/Berlin
BEGIN:VTIMEZONE
TZID:Europe/Berlin
TZUNTIL:20131027T010000Z
BEGIN:STANDARD
TZNAME:CET
DTSTART:20111030T030000
TZOFFSETFROM:+0200
TZOFFSETTO:+0100
RDATE:20121028T030000
END:STANDARD
BEGIN:DAYLIGHT
TZNAME:CEST
DTSTART:20110327T020000
TZOFFSETFROM:+0100
TZOFFSETTO:+0200
RDATE:20120325T020000
RDATE:20130331T020000
END:DAYLIGHT
END:VTIMEZONE
BEGIN:VEVENT
UID:34373236-6364-4739-b332-303732373039
DTSTAMP:20260422T150638Z
CATEGORIES:2012
CLASS:PUBLIC
DESCRIPTION;ALTREP="CID:<FFFF__=0ABBE548DFE235B58f9e8a93d@coffeebean.com>":
 Von Uslar liest in Uslar\nMoritz von Uslar über Begegnungen mit Menschen u
 nd den Alltag in Ostdeutschland\n\nMoritz von Uslar (Foto: nh)\n\nUSLAR. A
 uf Einladung des Literatur- und Kunstkreises Uslar kommt Moritz von Uslar 
 am Freitag\, 2. März\, in die Stadt seines Namens. Der in Köln geborene Jo
 urnalist und Buchautor liest ab 20 Uhr im Gildesaal des Rathauses und will
  gängigen Klischees über Ostdeutschland auf die Spur kommen.'Deutschboden'
  ist der Titel seines Buches – nennt man es nun Langzeitreportage\, oder i
 st es doch eher ein Roman? Der Untertitel – eine teilnehmende Beobachtung 
 – trifft es gut. Die Beschreibung des ganz normalen Provinzstadtalltags ge
 lingt Moritz von Uslar in seiner eigenen geradlinigen und direkten Sprache
 . Er hat sie kennen gelernt\, mit ihnen gelebt\, mit den Menschen in Hardr
 ockhausen\, der Kleinstadt in Ost-Brandenburg\, wo an der Landstraße stadt
 auswärts jener Wegweiser steht. Zehdenick heißt das Städtchen\, das in von
  Uslars Roman Oberhavel genannt wird.So entstand das erste moderne Buch üb
 er Ostdeutschland. Es ist keine journalistische Aufarbeitung der deutschen
  Geschichte. Man mag es vielmehr als literarische Betrachtung deutscher Be
 findlichkeiten lesen.\nLeben in der Provinz\nDem 'Reporter' – so spricht d
 er Autor abschnittsweise von sich selbst – geht es um subjektive Wahrhafti
 gkeit\, nicht um sachliche journalistische Recherche. Drei Monate hat Mori
 tz von Uslar in der brandenburgischen Provinz verbracht. Auf der Straße un
 d den speziellen Treffpunkten\, an der Aral-Tanke\, in den Kneipen\, Eisdi
 elen und Sportclubs\, mit den Rockmusikern der Band '5 teeth less' und and
 eren ganz normalen Leuten aus Oberhavel\, er nahm teil an deren Alltag\, h
 örte zu und hielt alles fest.Sein Roman ist eine teilnehmende Beobachtung 
 auf der Suche nach dem Leben jenseits der Klischees\, die Hartz IV\, Alkoh
 olismus\, Abwanderung und Rechtsradikalismus heißen.Karten gibt es im Vorv
 erkauf zum Preis von zehn Euro (ermäßigt acht Euro) in der Buchhandlung He
 nze\, Telefon 05571-2806\, und der Touristik- Information im Alten Rathaus
 \, Telefon 05571 - 307220. (bf) Foto: nh
DTSTART:20120302T190000Z
DTEND:20120302T190000Z
GEO:+51.658817;+9.634384
LOCATION:Historisches Rathaus Uslar
ORGANIZER:
SEQUENCE:1
SUMMARY:'Deutschboden - eine teilnehmende Beobachtung'
TRANSP:OPAQUE
URL:https://literatur-kunstkreis-uslar.de/index.php/programm/archiv/31-deut
 schboden-eine-teilnehmende-beobachtung
END:VEVENT
END:VCALENDAR
