BEGIN:VCALENDAR
VERSION:2.0
PRODID:-//Literatur- und Kunstkreis Uslar e. V.//NONSGML kigkonsult.se iCalcreator 2.41.92//
CALSCALE:GREGORIAN
METHOD:PUBLISH
UID:31663965-3839-4230-a138-353734363762
X-WR-CALNAME:iCagenda
X-WR-CALDESC:Event Management Extension for Joomla!
X-WR-RELCALID:3E26604A-50F4-4449-8B3E-E4F4932D05B5
X-WR-TIMEZONE:Europe/Berlin
BEGIN:VTIMEZONE
TZID:Europe/Berlin
TZUNTIL:20131027T010000Z
BEGIN:STANDARD
TZNAME:CET
DTSTART:20111030T030000
TZOFFSETFROM:+0200
TZOFFSETTO:+0100
RDATE:20121028T030000
END:STANDARD
BEGIN:DAYLIGHT
TZNAME:CEST
DTSTART:20120325T020000
TZOFFSETFROM:+0100
TZOFFSETTO:+0200
RDATE:20130331T020000
END:DAYLIGHT
END:VTIMEZONE
BEGIN:VEVENT
UID:65396337-6461-4564-a132-393538653335
DTSTAMP:20260422T150537Z
CATEGORIES:2012
CLASS:PUBLIC
DESCRIPTION;ALTREP="CID:<FFFF__=0ABBE548DFE235B58f9e8a93d@coffeebean.com>":
 \nMit freundlicher Unterstützung der VR-Stiftung
DTSTART:20120420T180000Z
DTEND:20120420T180000Z
GEO:+51.67968;+9.640596
LOCATION:Gasthaus Johanning Uslar - Eschershausen
ORGANIZER:
SEQUENCE:1
SUMMARY:'Hurra\, wir bleiben inkompetent!'
TRANSP:OPAQUE
URL:https://literatur-kunstkreis-uslar.de/index.php/programm/archiv/33-hurr
 a-wir-bleiben-inkompetent
END:VEVENT
END:VCALENDAR
