BEGIN:VCALENDAR
VERSION:2.0
PRODID:-//Literatur- und Kunstkreis Uslar e. V.//NONSGML kigkonsult.se iCalcreator 2.41.92//
CALSCALE:GREGORIAN
METHOD:PUBLISH
UID:65366166-3538-4962-a235-613032353538
X-WR-CALNAME:iCagenda
X-WR-CALDESC:Event Management Extension for Joomla!
X-WR-RELCALID:3E26604A-50F4-4449-8B3E-E4F4932D05B5
X-WR-TIMEZONE:Europe/Berlin
BEGIN:VTIMEZONE
TZID:Europe/Berlin
TZUNTIL:20140330T010000Z
BEGIN:STANDARD
TZNAME:CET
DTSTART:20111030T030000
TZOFFSETFROM:+0200
TZOFFSETTO:+0100
RDATE:20121028T030000
RDATE:20131027T030000
END:STANDARD
BEGIN:DAYLIGHT
TZNAME:CEST
DTSTART:20120325T020000
TZOFFSETFROM:+0100
TZOFFSETTO:+0200
RDATE:20130331T020000
END:DAYLIGHT
END:VTIMEZONE
BEGIN:VEVENT
UID:32363531-3262-4436-b933-373332343563
DTSTAMP:20260422T151600Z
CATEGORIES:2012
CLASS:PUBLIC
DESCRIPTION:
DTSTART:20120525T180000Z
DTEND:20120525T180000Z
GEO:+51.67968;+9.640596
LOCATION:Gasthaus Johanning Uslar - Eschershausen
ORGANIZER:
SEQUENCE:1
SUMMARY:Jubiläumsfeier 25 Jahre Literatur– und Kunstkreis Uslar e.V.
TRANSP:OPAQUE
URL:https://literatur-kunstkreis-uslar.de/index.php/programm/archiv/34-jubi
 laeumsfeier-25-jahre-literatur-und-kunstkreis-uslar-e-v
END:VEVENT
END:VCALENDAR
