BEGIN:VCALENDAR
VERSION:2.0
PRODID:-//Literatur- und Kunstkreis Uslar e. V.//NONSGML kigkonsult.se iCalcreator 2.41.92//
CALSCALE:GREGORIAN
METHOD:PUBLISH
UID:39646630-6465-4164-b235-626335376438
X-WR-CALNAME:iCagenda
X-WR-CALDESC:Event Management Extension for Joomla!
X-WR-RELCALID:3E26604A-50F4-4449-8B3E-E4F4932D05B5
X-WR-TIMEZONE:Europe/Berlin
BEGIN:VTIMEZONE
TZID:Europe/Berlin
TZUNTIL:20140330T010000Z
BEGIN:STANDARD
TZNAME:CET
DTSTART:20111030T030000
TZOFFSETFROM:+0200
TZOFFSETTO:+0100
RDATE:20121028T030000
RDATE:20131027T030000
END:STANDARD
BEGIN:DAYLIGHT
TZNAME:CEST
DTSTART:20120325T020000
TZOFFSETFROM:+0100
TZOFFSETTO:+0200
RDATE:20130331T020000
END:DAYLIGHT
END:VTIMEZONE
BEGIN:VEVENT
UID:33396336-3937-4837-a234-653965616630
DTSTAMP:20260422T150526Z
CATEGORIES:2012
CLASS:PUBLIC
DESCRIPTION:
DTSTART:20120707T140000Z
DTEND:20120707T140000Z
GEO:+51.659336;+9.636615
LOCATION:Forstgarten Uslar Lange Straße
ORGANIZER:
SEQUENCE:1
SUMMARY:Sommerfest mit dem 'Solling-Swing-Orchestra'
TRANSP:OPAQUE
URL:https://literatur-kunstkreis-uslar.de/index.php/programm/archiv/35-somm
 erfest-mit-dem-solling-swing-orchestra
END:VEVENT
END:VCALENDAR
