BEGIN:VCALENDAR
VERSION:2.0
PRODID:-//Literatur- und Kunstkreis Uslar e. V.//NONSGML kigkonsult.se iCalcreator 2.41.92//
CALSCALE:GREGORIAN
METHOD:PUBLISH
UID:33623564-3364-4464-a533-366565303736
X-WR-CALNAME:iCagenda
X-WR-CALDESC:Event Management Extension for Joomla!
X-WR-RELCALID:3E26604A-50F4-4449-8B3E-E4F4932D05B5
X-WR-TIMEZONE:Europe/Berlin
BEGIN:VTIMEZONE
TZID:Europe/Berlin
TZUNTIL:20140330T010000Z
BEGIN:STANDARD
TZNAME:CET
DTSTART:20111030T030000
TZOFFSETFROM:+0200
TZOFFSETTO:+0100
RDATE:20121028T030000
RDATE:20131027T030000
END:STANDARD
BEGIN:DAYLIGHT
TZNAME:CEST
DTSTART:20120325T020000
TZOFFSETFROM:+0100
TZOFFSETTO:+0200
RDATE:20130331T020000
END:DAYLIGHT
END:VTIMEZONE
BEGIN:VEVENT
UID:62393230-3461-4237-b038-303333393539
DTSTAMP:20260422T150822Z
CATEGORIES:2012
CLASS:PUBLIC
DESCRIPTION;ALTREP="CID:<FFFF__=0ABBE548DFE235B58f9e8a93d@coffeebean.com>":
 Die Ausstellung kann bis zum 18.08.2012 besucht werden. Der Eintritt ist f
 rei.\n\nMit freundlicher Unterstützung der VR-Stiftung
DTSTART:20120805T090000Z
DTEND:20120805T090000Z
GEO:+51.658817;+9.634384
LOCATION:Historisches Rathaus Uslar
ORGANIZER:
SEQUENCE:1
SUMMARY:'Künstlerische Filmplakate' von Prof. Hans Hillman
TRANSP:OPAQUE
URL:https://literatur-kunstkreis-uslar.de/index.php/programm/archiv/36-kuen
 stlerische-filmplakate-von-prof-hans-hillman
END:VEVENT
END:VCALENDAR
