BEGIN:VCALENDAR
VERSION:2.0
PRODID:-//Literatur- und Kunstkreis Uslar e. V.//NONSGML kigkonsult.se iCalcreator 2.41.92//
CALSCALE:GREGORIAN
METHOD:PUBLISH
UID:36623564-3435-4135-b037-613031393062
X-WR-CALNAME:iCagenda
X-WR-CALDESC:Event Management Extension for Joomla!
X-WR-RELCALID:3E26604A-50F4-4449-8B3E-E4F4932D05B5
X-WR-TIMEZONE:Europe/Berlin
BEGIN:VTIMEZONE
TZID:Europe/Berlin
TZUNTIL:20141026T010000Z
BEGIN:STANDARD
TZNAME:CET
DTSTART:20121028T030000
TZOFFSETFROM:+0200
TZOFFSETTO:+0100
RDATE:20131027T030000
END:STANDARD
BEGIN:DAYLIGHT
TZNAME:CEST
DTSTART:20120325T020000
TZOFFSETFROM:+0100
TZOFFSETTO:+0200
RDATE:20130331T020000
RDATE:20140330T020000
END:DAYLIGHT
END:VTIMEZONE
BEGIN:VEVENT
UID:31616231-3837-4230-a663-303863303834
DTSTAMP:20260422T145812Z
CATEGORIES:2012
CLASS:PUBLIC
DESCRIPTION:
DTSTART:20121108T183000Z
DTEND:20121108T183000Z
GEO:+51.659389;+9.63189
LOCATION:Ev. Gemeindehaus Uslar\, Kreuzstraße
ORGANIZER:
SEQUENCE:1
SUMMARY:'News from Berlin'
TRANSP:OPAQUE
URL:https://literatur-kunstkreis-uslar.de/index.php/programm/archiv/39-news
 -from-berlin
END:VEVENT
END:VCALENDAR
