BEGIN:VCALENDAR
VERSION:2.0
PRODID:-//Literatur- und Kunstkreis Uslar e. V.//NONSGML kigkonsult.se iCalcreator 2.41.92//
CALSCALE:GREGORIAN
METHOD:PUBLISH
UID:32313661-3939-4131-b966-393835323663
X-WR-CALNAME:iCagenda
X-WR-CALDESC:Event Management Extension for Joomla!
X-WR-RELCALID:3E26604A-50F4-4449-8B3E-E4F4932D05B5
X-WR-TIMEZONE:Europe/Berlin
BEGIN:VTIMEZONE
TZID:Europe/Berlin
TZUNTIL:20110327T010000Z
BEGIN:STANDARD
TZNAME:CET
DTSTART:20081026T030000
TZOFFSETFROM:+0200
TZOFFSETTO:+0100
RDATE:20091025T030000
RDATE:20101031T030000
END:STANDARD
BEGIN:DAYLIGHT
TZNAME:CEST
DTSTART:20090329T020000
TZOFFSETFROM:+0100
TZOFFSETTO:+0200
RDATE:20100328T020000
END:DAYLIGHT
END:VTIMEZONE
BEGIN:VEVENT
UID:37363137-6662-4463-b435-333337346530
DTSTAMP:20260422T150536Z
CATEGORIES:2009
CLASS:PUBLIC
DESCRIPTION;ALTREP="CID:<FFFF__=0ABBE548DFE235B58f9e8a93d@coffeebean.com>":
 Die beiden Musiker\, Florence Sitruk (Konzertharfe) und Christoph Bunzenda
 hl (Violonlocello) sind auf internationalen Konzertbühnen bekannt. Die etw
 as ungewöhnliche Kombination dieser beiden Instrumente für ein kammermusik
 alisches Konzert verspricht Freunden der klassischen Musik einen besondere
 n Hörgenuss. Zarte Harfenklänge mit den vollen tiefen Tönen der 'Kniegeige
 ' geben dem kammermusikalischen Konzert mit Stücken\, die für diese beiden
  Instrumente komponiert oder bearbeitet wurden\, eine außergewöhnliche Not
 e.\nChristoph Bunzendahl (Foto links) lebt seit 2000 in Antwerpen in Belgi
 en. Seine musikalische Laufbahn begann er mit 6 Jahren\, als Schüler von G
 erhard Pohl\, dem Cellisten des NDR-Rundfunkorchesters Hannover. Nach sein
 em Studium in den USA\, wo er seine musikalische Ausbildung absolvierte\, 
 kehrte er zurück nach Europa. Seither vertiefte er sein Cellospiel am Köni
 glichen Conservatorium Antwerpen und bereist mit verschiedenen Orchestern 
 aller Herren Länder. In 2004 erhielt er das Masters of Cello Performance d
 es Königlichen Flämischen Conservatoriums.\nAuf einem immer noch in der in
 ternationalen Musikszene selten vertretenen Soloisteninstrument\, der Harf
 e\, hat sich Florence Sitruk (Foto rechts) im In- und Ausland als intellig
 ente und sich auf die eigentliche Aussage der Musik konzentrierende Künstl
 erin etabliert. Die junge Musikerin\, 1974 als Kind deutsch-französischer 
 Eltern in Südbaden aufgewachsen\, konzertiert regelmäßig in Europa\, Rußla
 nd\, Asien und Australien und ist nebenbei seit 2005 die jüngste Professor
 in ihres Fachs an der Hochschule für Musik Genf.
DTSTART:20090516T180000Z
DTEND:20090516T180000Z
GEO:+51.661602;+9.63873
LOCATION:Friedenskirche Uslar
ORGANIZER:
SEQUENCE:1
SUMMARY:'Auf den Flügeln der Stimme'
TRANSP:OPAQUE
URL:https://literatur-kunstkreis-uslar.de/index.php/programm/archiv/4-auf-d
 en-fluegeln-der-stimme
END:VEVENT
END:VCALENDAR
