BEGIN:VCALENDAR
VERSION:2.0
PRODID:-//Literatur- und Kunstkreis Uslar e. V.//NONSGML kigkonsult.se iCalcreator 2.41.92//
CALSCALE:GREGORIAN
METHOD:PUBLISH
UID:35616162-6333-4139-a562-376262306666
X-WR-CALNAME:iCagenda
X-WR-CALDESC:Event Management Extension for Joomla!
X-WR-RELCALID:3E26604A-50F4-4449-8B3E-E4F4932D05B5
X-WR-TIMEZONE:Europe/Berlin
BEGIN:VTIMEZONE
TZID:Europe/Berlin
TZUNTIL:20141026T010000Z
BEGIN:STANDARD
TZNAME:CET
DTSTART:20121028T030000
TZOFFSETFROM:+0200
TZOFFSETTO:+0100
RDATE:20131027T030000
END:STANDARD
BEGIN:DAYLIGHT
TZNAME:CEST
DTSTART:20120325T020000
TZOFFSETFROM:+0100
TZOFFSETTO:+0200
RDATE:20130331T020000
RDATE:20140330T020000
END:DAYLIGHT
END:VTIMEZONE
BEGIN:VEVENT
UID:30656164-3761-4330-b565-616535653934
DTSTAMP:20260422T150546Z
CATEGORIES:2013
CLASS:PUBLIC
DESCRIPTION;ALTREP="CID:<FFFF__=0ABBE548DFE235B58f9e8a93d@coffeebean.com>":
 \nPawlowkis forte\n\nDie Abschiedstour der 'Pawlowkis forte' führt auf Ein
 ladung des Literatur- und Kunstkreises (LuK) Uslar am Freitag\, 25. Januar
 \, auch nach Uslar. Das Ensemble mit Vater und Sohn\, Klaus und Peter Pawl
 owski\, und ihrer weiblichen Ergänzung Uschi Simon will nach 30 Jahren die
  kabarettistische Bühne verlassen. 'Man soll aufhören\, wenn es noch schön
  ist'\, sagen sie. Sie wollen es aber noch einmal krachen lassen und sich 
 mit einem ironisch-satirischen Feuerwerk aus Liedern\, Texten und Szenen v
 erabschieden.Das Gastspiel im Gasthaus Johanning in Eschershausen beginnt 
 um 20 Uhr\, Einlass ist ab 19 Uhr. Der Eintritt kostet 13 Euro (zehn Euro 
 ermäßigt und für Mitglieder des LuK). Begleiter von Personen mit Schwerbeh
 indertenausweis-Vermerk 'H' haben freien Eintritt.Karten gibt es in der To
 uristikinfo Uslar\, Telefon 05571-307220 und in der Buchhandlung Henze\, T
 elefon 05571-2806. (fsd) Foto: nh
DTSTART:20130125T190000Z
DTEND:20130125T190000Z
GEO:+51.67968;+9.640596
LOCATION:Gasthaus Johanning Uslar - Eschershausen
ORGANIZER:
SEQUENCE:1
SUMMARY:'Der Abschied' - Die Pawlowskis forte
TRANSP:OPAQUE
URL:https://literatur-kunstkreis-uslar.de/index.php/programm/archiv/40-der-
 abschied-die-pawlowskis-forte
END:VEVENT
END:VCALENDAR
