BEGIN:VCALENDAR
VERSION:2.0
PRODID:-//Literatur- und Kunstkreis Uslar e. V.//NONSGML kigkonsult.se iCalcreator 2.41.92//
CALSCALE:GREGORIAN
METHOD:PUBLISH
UID:62623437-3130-4463-a436-363534306631
X-WR-CALNAME:iCagenda
X-WR-CALDESC:Event Management Extension for Joomla!
X-WR-RELCALID:3E26604A-50F4-4449-8B3E-E4F4932D05B5
X-WR-TIMEZONE:Europe/Berlin
BEGIN:VTIMEZONE
TZID:Europe/Berlin
TZUNTIL:20141026T010000Z
BEGIN:STANDARD
TZNAME:CET
DTSTART:20121028T030000
TZOFFSETFROM:+0200
TZOFFSETTO:+0100
RDATE:20131027T030000
END:STANDARD
BEGIN:DAYLIGHT
TZNAME:CEST
DTSTART:20120325T020000
TZOFFSETFROM:+0100
TZOFFSETTO:+0200
RDATE:20130331T020000
RDATE:20140330T020000
END:DAYLIGHT
END:VTIMEZONE
BEGIN:VEVENT
UID:61316539-3836-4035-b034-306162306436
DTSTAMP:20260422T152149Z
CATEGORIES:2013
CLASS:PUBLIC
DESCRIPTION;ALTREP="CID:<FFFF__=0ABBE548DFE235B58f9e8a93d@coffeebean.com>":
 16:00 Uhr:'Das tapfere Schnneiderlein' (Harzer Puppenbühne)19:00 Uhr:'Iris
 cher Abend' Film\, Folk &amp\; FunFilm: 'Lang lebe Ned Divine'\; Irish Fol
 k Music live mit den Mounthomers\, dazu gibt es Food and Drinks\nIrish Fol
 k Music: The Mounthomers - Black Velvet Band\n YouTube-Video
DTSTART:20130223T180000Z
DTEND:20130223T180000Z
GEO:+51.654633;+9.655201
LOCATION:Kulturbahnhof Uslar
ORGANIZER:
SEQUENCE:1
SUMMARY:In Zusammenarbeit mit dem Uslarer Stadtjugendring und KulturBahnhof
  Uslar e. V.:
TRANSP:OPAQUE
URL:https://literatur-kunstkreis-uslar.de/index.php/programm/archiv/41-in-z
 usammenarbeit-mit-dem-uslarer-stadtjugendring-und-kulturbahnhof-uslar-e-v/
 2013-02-23-19-00
END:VEVENT
END:VCALENDAR
