BEGIN:VCALENDAR
VERSION:2.0
PRODID:-//Literatur- und Kunstkreis Uslar e. V.//NONSGML kigkonsult.se iCalcreator 2.41.92//
CALSCALE:GREGORIAN
METHOD:PUBLISH
UID:34323131-3762-4037-a630-316630336136
X-WR-CALNAME:iCagenda
X-WR-CALDESC:Event Management Extension for Joomla!
X-WR-RELCALID:3E26604A-50F4-4449-8B3E-E4F4932D05B5
X-WR-TIMEZONE:Europe/Berlin
BEGIN:VTIMEZONE
TZID:Europe/Berlin
TZUNTIL:20141026T010000Z
BEGIN:STANDARD
TZNAME:CET
DTSTART:20121028T030000
TZOFFSETFROM:+0200
TZOFFSETTO:+0100
RDATE:20131027T030000
END:STANDARD
BEGIN:DAYLIGHT
TZNAME:CEST
DTSTART:20120325T020000
TZOFFSETFROM:+0100
TZOFFSETTO:+0200
RDATE:20130331T020000
RDATE:20140330T020000
END:DAYLIGHT
END:VTIMEZONE
BEGIN:VEVENT
UID:63343135-3361-4238-b964-326239633965
DTSTAMP:20260422T152214Z
CATEGORIES:2013
CLASS:PUBLIC
DESCRIPTION;ALTREP="CID:<FFFF__=0ABBE548DFE235B58f9e8a93d@coffeebean.com>":
 Axel Hackes neuestes Buch entstand aufgrund von Einsendungen seiner Leser 
 - Speisekarten aus aller Welt\, auf denen die angebotenen Mahlzeiten in ei
 n wunderbar falsches\, krauses\, poetisches und vor allem herrlisch komisc
 hes Deutsch übersetzt worden sind.
DTSTART:20130304T190000Z
DTEND:20130304T190000Z
GEO:+51.667221;+9.63117
LOCATION:Forum Gymnasium Uslar
ORGANIZER:
SEQUENCE:1
SUMMARY:'Oberst Huhn bittet zu Tisch' - Axel Hacke
TRANSP:OPAQUE
URL:https://literatur-kunstkreis-uslar.de/index.php/programm/archiv/42-ober
 st-huhn-bittet-zu-tisch-axel-hacke
END:VEVENT
END:VCALENDAR
