BEGIN:VCALENDAR
VERSION:2.0
PRODID:-//Literatur- und Kunstkreis Uslar e. V.//NONSGML kigkonsult.se iCalcreator 2.41.92//
CALSCALE:GREGORIAN
METHOD:PUBLISH
UID:36613738-3065-4235-a631-383830336530
X-WR-CALNAME:iCagenda
X-WR-CALDESC:Event Management Extension for Joomla!
X-WR-RELCALID:3E26604A-50F4-4449-8B3E-E4F4932D05B5
X-WR-TIMEZONE:Europe/Berlin
BEGIN:VTIMEZONE
TZID:Europe/Berlin
TZUNTIL:20150329T010000Z
BEGIN:STANDARD
TZNAME:CET
DTSTART:20121028T030000
TZOFFSETFROM:+0200
TZOFFSETTO:+0100
RDATE:20131027T030000
RDATE:20141026T030000
END:STANDARD
BEGIN:DAYLIGHT
TZNAME:CEST
DTSTART:20130331T020000
TZOFFSETFROM:+0100
TZOFFSETTO:+0200
RDATE:20140330T020000
END:DAYLIGHT
END:VTIMEZONE
BEGIN:VEVENT
UID:38393437-6136-4533-b632-366462646539
DTSTAMP:20260422T161724Z
CATEGORIES:2013
CLASS:PUBLIC
DESCRIPTION:
DTSTART:20130516T173000Z
DTEND:20130516T173000Z
GEO:+51.661602;+9.63873
LOCATION:Friedenskirche Uslar\, Stiftstraße
ORGANIZER:
SEQUENCE:1
SUMMARY:'When Gospel meets the Blues - Angela Brown & Jan Luley
TRANSP:OPAQUE
URL:https://literatur-kunstkreis-uslar.de/index.php/programm/archiv/44-when
 -gospel-meets-the-blues-angela-brown-jan-luley
END:VEVENT
END:VCALENDAR
