BEGIN:VCALENDAR
VERSION:2.0
PRODID:-//Literatur- und Kunstkreis Uslar e. V.//NONSGML kigkonsult.se iCalcreator 2.41.92//
CALSCALE:GREGORIAN
METHOD:PUBLISH
UID:66616662-3938-4633-b131-656564366261
X-WR-CALNAME:iCagenda
X-WR-CALDESC:Event Management Extension for Joomla!
X-WR-RELCALID:3E26604A-50F4-4449-8B3E-E4F4932D05B5
X-WR-TIMEZONE:Europe/Berlin
BEGIN:VTIMEZONE
TZID:Europe/Berlin
TZUNTIL:20150329T010000Z
BEGIN:STANDARD
TZNAME:CET
DTSTART:20121028T030000
TZOFFSETFROM:+0200
TZOFFSETTO:+0100
RDATE:20131027T030000
RDATE:20141026T030000
END:STANDARD
BEGIN:DAYLIGHT
TZNAME:CEST
DTSTART:20130331T020000
TZOFFSETFROM:+0100
TZOFFSETTO:+0200
RDATE:20140330T020000
END:DAYLIGHT
END:VTIMEZONE
BEGIN:VEVENT
UID:34376361-3037-4231-b731-663566626436
DTSTAMP:20260422T161846Z
CATEGORIES:2013
CLASS:PUBLIC
DESCRIPTION:
DTSTART:20130913T180000Z
DTEND:20130913T180000Z
GEO:+51.654633;+9.655201
LOCATION:Kulturbahnhof Uslar
ORGANIZER:
SEQUENCE:1
SUMMARY:'Der Widerspenstigen Zähmung' frei komisch nach Shakespeare - Theat
 erkönig Bernd Lafrenz
TRANSP:OPAQUE
URL:https://literatur-kunstkreis-uslar.de/index.php/programm/archiv/46-der-
 widerspenstigen-zaehmung-frei-komisch-nach-shakespeare-theaterkoenig-bernd
 -lafrenz
END:VEVENT
END:VCALENDAR
