BEGIN:VCALENDAR
VERSION:2.0
PRODID:-//Literatur- und Kunstkreis Uslar e. V.//NONSGML kigkonsult.se iCalcreator 2.41.92//
CALSCALE:GREGORIAN
METHOD:PUBLISH
UID:62666464-6266-4931-b631-636638393733
X-WR-CALNAME:iCagenda
X-WR-CALDESC:Event Management Extension for Joomla!
X-WR-RELCALID:3E26604A-50F4-4449-8B3E-E4F4932D05B5
X-WR-TIMEZONE:Europe/Berlin
BEGIN:VTIMEZONE
TZID:Europe/Berlin
TZUNTIL:20151025T010000Z
BEGIN:STANDARD
TZNAME:CET
DTSTART:20121028T030000
TZOFFSETFROM:+0200
TZOFFSETTO:+0100
RDATE:20131027T030000
RDATE:20141026T030000
END:STANDARD
BEGIN:DAYLIGHT
TZNAME:CEST
DTSTART:20130331T020000
TZOFFSETFROM:+0100
TZOFFSETTO:+0200
RDATE:20140330T020000
RDATE:20150329T020000
END:DAYLIGHT
END:VTIMEZONE
BEGIN:VEVENT
UID:62386632-6138-4635-b833-353330643035
DTSTAMP:20260422T161337Z
CATEGORIES:2013
CLASS:PUBLIC
DESCRIPTION:
DTSTART:20131025T180000Z
DTEND:20131025T180000Z
GEO:+51.67968;+9.640596
LOCATION:Gasthaus Johanning Uslar - Eschershausen
ORGANIZER:
SEQUENCE:1
SUMMARY:'Multiple Sarkasmen' - Moritz Netenjakob
TRANSP:OPAQUE
URL:https://literatur-kunstkreis-uslar.de/index.php/programm/archiv/47-mult
 iple-sarkasmen-moritz-netenjakob
END:VEVENT
END:VCALENDAR
