BEGIN:VCALENDAR
VERSION:2.0
PRODID:-//Literatur- und Kunstkreis Uslar e. V.//NONSGML kigkonsult.se iCalcreator 2.41.92//
CALSCALE:GREGORIAN
METHOD:PUBLISH
UID:62346663-3637-4539-b237-373531386566
X-WR-CALNAME:iCagenda
X-WR-CALDESC:Event Management Extension for Joomla!
X-WR-RELCALID:3E26604A-50F4-4449-8B3E-E4F4932D05B5
X-WR-TIMEZONE:Europe/Berlin
BEGIN:VTIMEZONE
TZID:Europe/Berlin
TZUNTIL:20151025T010000Z
BEGIN:STANDARD
TZNAME:CET
DTSTART:20131027T030000
TZOFFSETFROM:+0200
TZOFFSETTO:+0100
RDATE:20141026T030000
END:STANDARD
BEGIN:DAYLIGHT
TZNAME:CEST
DTSTART:20130331T020000
TZOFFSETFROM:+0100
TZOFFSETTO:+0200
RDATE:20140330T020000
RDATE:20150329T020000
END:DAYLIGHT
END:VTIMEZONE
BEGIN:VEVENT
UID:63663663-3036-4862-a432-623164633030
DTSTAMP:20260422T161807Z
CATEGORIES:2013
CLASS:PUBLIC
DESCRIPTION;ALTREP="CID:<FFFF__=0ABBE548DFE235B58f9e8a93d@coffeebean.com>":
 Mitglieder des Literatur- und Kunstkreises präsentieren literarische Appet
 ithäppchen und Geheimtipps aus den Bestsellerlisten.\nDazu gibt es - natür
 lich Häppchen!
DTSTART:20131128T190000Z
DTEND:20131128T190000Z
GEO:+51.657928;+9.634616
LOCATION:Buchhandlung Henze\, Uslar\, Lange Straße 4
ORGANIZER:
SEQUENCE:1
SUMMARY:'Häppchenweise' - Neues aus der Bücherwelt
TRANSP:OPAQUE
URL:https://literatur-kunstkreis-uslar.de/index.php/programm/archiv/49-haep
 pchenweise-neues-aus-der-buecherwelt
END:VEVENT
END:VCALENDAR
