BEGIN:VCALENDAR
VERSION:2.0
PRODID:-//Literatur- und Kunstkreis Uslar e. V.//NONSGML kigkonsult.se iCalcreator 2.41.92//
CALSCALE:GREGORIAN
METHOD:PUBLISH
UID:61396664-3965-4636-b761-393333643061
X-WR-CALNAME:iCagenda
X-WR-CALDESC:Event Management Extension for Joomla!
X-WR-RELCALID:3E26604A-50F4-4449-8B3E-E4F4932D05B5
X-WR-TIMEZONE:Europe/Berlin
BEGIN:VTIMEZONE
TZID:Europe/Berlin
TZUNTIL:20151025T010000Z
BEGIN:STANDARD
TZNAME:CET
DTSTART:20131027T030000
TZOFFSETFROM:+0200
TZOFFSETTO:+0100
RDATE:20141026T030000
END:STANDARD
BEGIN:DAYLIGHT
TZNAME:CEST
DTSTART:20130331T020000
TZOFFSETFROM:+0100
TZOFFSETTO:+0200
RDATE:20140330T020000
RDATE:20150329T020000
END:DAYLIGHT
END:VTIMEZONE
BEGIN:VEVENT
UID:65383335-6465-4364-b531-313562393431
DTSTAMP:20260422T161458Z
CATEGORIES:2014
CLASS:PUBLIC
DESCRIPTION;ALTREP="CID:<FFFF__=0ABBE548DFE235B58f9e8a93d@coffeebean.com>":
 Wichtige INFO für diese Veranstaltung:Für die literarische Weinprobe mit V
 erkostung am 24.01.2014 sollten Sie sich bis zum 17.01.2014 verbindlich an
 melden\, bzw. eine der super günstigen Eintrittskarten erwerben. Es gibt k
 eine Abendkasse!(Info und Anmeldung: Tel + AB: 05571-4942\; E-Mail j.pahlo
 w@arcor.de ) яндекс
DTSTART:20140124T190000Z
DTEND:20140124T190000Z
GEO:+51.658913;+9.635064
LOCATION:Hotel Menzhausen\, Saal
ORGANIZER:
SEQUENCE:1
SUMMARY:Literarische Weinprobe
TRANSP:OPAQUE
URL:https://literatur-kunstkreis-uslar.de/index.php/programm/archiv/50-lite
 rarische-weinprobe
END:VEVENT
END:VCALENDAR
