BEGIN:VCALENDAR
VERSION:2.0
PRODID:-//Literatur- und Kunstkreis Uslar e. V.//NONSGML kigkonsult.se iCalcreator 2.41.92//
CALSCALE:GREGORIAN
METHOD:PUBLISH
UID:30333136-3936-4062-b564-663932343433
X-WR-CALNAME:iCagenda
X-WR-CALDESC:Event Management Extension for Joomla!
X-WR-RELCALID:3E26604A-50F4-4449-8B3E-E4F4932D05B5
X-WR-TIMEZONE:Europe/Berlin
BEGIN:VTIMEZONE
TZID:Europe/Berlin
TZUNTIL:20151025T010000Z
BEGIN:STANDARD
TZNAME:CET
DTSTART:20131027T030000
TZOFFSETFROM:+0200
TZOFFSETTO:+0100
RDATE:20141026T030000
END:STANDARD
BEGIN:DAYLIGHT
TZNAME:CEST
DTSTART:20130331T020000
TZOFFSETFROM:+0100
TZOFFSETTO:+0200
RDATE:20140330T020000
RDATE:20150329T020000
END:DAYLIGHT
END:VTIMEZONE
BEGIN:VEVENT
UID:35303465-3737-4836-a338-633432616233
DTSTAMP:20260422T161327Z
CATEGORIES:2014
CLASS:PUBLIC
DESCRIPTION;ALTREP="CID:<FFFF__=0ABBE548DFE235B58f9e8a93d@coffeebean.com>":
 Judith Schalansky präsentiert ihr Buch 'Atlas der abgelegenen Inseln'\, au
 sgezeichnet mit dem 1. Preis der Stiftung Buchkunst als das 'Schönste Buch
  des Jahres 2009'. Umsponnen\, hinterlegt\, übertönt und untermalt wird si
 e dabei von der Berliner Band Le Sorelle Blu.\n \nAbsurde Geschichten und 
 freche Lieder\nJudith Schalansky liest aus ihrem preisgekrönten Roman beim
  Literatur- und Kunstkreis\nUslar. Einen literarischen Leckerbissen über s
 eltene Tiere und seltsame Menschen\, über gestrandete Sklaven und verirrte
  Entdecker\, über orientierungslose Leuchtturmwärter und vergessene Schiff
 brüchige. Das präsentiert Judith Schalansky\, die studierte Historikerin u
 nd Kommunikationsdesignerin in ihrem Roman 'Atlas der abgelegenen Inseln'.
  Und der Literatur- und Kunstkreis Uslar präsentiert die Autorin bei einer
  Lesung am Freitag\, 28. Februar\, in Uslar.Angekündigt wird eine maritime
  Abenteuerreise ab 20 Uhr im Hotel Menzhausen. Das Buch wurde 2009 zum sch
 önsten Buch des Jahres gekürt und 2010 mit dem ersten Preis der Stiftung B
 uchkunst ausgezeichnet.  Im Jungen Theater in Göttingen wird zurzeit nach 
 Schalanskys Roman 'Der Hals der Giraffe' ein Zwei-Personen-Stück über eine
  unerbittliche aber auch liebenswerte Lehrerin vom alten Schlag gezeigt. D
 ie Gastgeber bieten noch mehr: Frech\, feinfühlig untermalt und sachkundig
  begleitet wird die Autorin bei ihrer Lesung von der Berliner Band 'Le Sor
 elle Blu' mit der aus Uslar stammenden Musikerin Almut Schlichting am Bari
 tonsaxofon\, Brigitte Haas (Gesang und Percussion) und Maja von Kriegstein
  (Trompete). Die Gruppe erfreue das Publikum mit Seemannsliedern\, Schlage
 rn und Shantys\, heißt es. Ihre Themen: Sturm\, Sehnsucht\, Männer\, Mütte
 r und das Meer.  Der Literatur- und Kunstkreis ist sich sicher\, dass ein 
 erfrischendes Konzertprogramm voller überraschender Wendemanöver im litera
 rischen wie auch im musikalischen Sektor entsteht. Das Publikum könne sich
  auf einen humorvollen und hintersinnigen Abend freuen\, heißt es.  Der Ei
 ntritt kostet 17 Euro sowie ermäßigt und für Mitglieder des Literatur- und
  Kunstkreises 14 Euro. Karten gibt es im Vorverkauf in der Buchhandlung He
 nze und der Touristik-Information Uslar. (fsd)
DTSTART:20140228T190000Z
DTEND:20140228T190000Z
GEO:+51.658913;+9.635064
LOCATION:Hotel Menzhausen\, Saal
ORGANIZER:
SEQUENCE:1
SUMMARY:Maritime Abenteuerreise
TRANSP:OPAQUE
URL:https://literatur-kunstkreis-uslar.de/index.php/programm/archiv/51-mari
 time-abenteuerreise
END:VEVENT
END:VCALENDAR
