BEGIN:VCALENDAR
VERSION:2.0
PRODID:-//Literatur- und Kunstkreis Uslar e. V.//NONSGML kigkonsult.se iCalcreator 2.41.92//
CALSCALE:GREGORIAN
METHOD:PUBLISH
UID:65643466-3838-4661-b237-316561633232
X-WR-CALNAME:iCagenda
X-WR-CALDESC:Event Management Extension for Joomla!
X-WR-RELCALID:3E26604A-50F4-4449-8B3E-E4F4932D05B5
X-WR-TIMEZONE:Europe/Berlin
BEGIN:VTIMEZONE
TZID:Europe/Berlin
TZUNTIL:20151025T010000Z
BEGIN:STANDARD
TZNAME:CET
DTSTART:20131027T030000
TZOFFSETFROM:+0200
TZOFFSETTO:+0100
RDATE:20141026T030000
END:STANDARD
BEGIN:DAYLIGHT
TZNAME:CEST
DTSTART:20140330T020000
TZOFFSETFROM:+0100
TZOFFSETTO:+0200
RDATE:20150329T020000
END:DAYLIGHT
END:VTIMEZONE
BEGIN:VEVENT
UID:65646462-3735-4233-b164-306633353635
DTSTAMP:20260422T161259Z
CATEGORIES:2014
CLASS:PUBLIC
DESCRIPTION;ALTREP="CID:<FFFF__=0ABBE548DFE235B58f9e8a93d@coffeebean.com>":
 Das Göttinger Symphonie Orchester mit seinem renommierten Dirigenten Chris
 toph-Mathias Mueller kann auch anders: Es verwandelt sich in voller Besetz
 ung in eine Big Band und swingt! Verstärkt wird das GSO von XYJazZ\, der B
 igband der Uni Göttingen. Lassen Sie sich von der Musik von Benny Goodman\
 , Glenn Miller und Duke Ellington mitreißen.\n
DTSTART:20140404T180000Z
DTEND:20140404T180000Z
GEO:+51.667221;+9.63117
LOCATION:Forum Gymnasium Uslar
ORGANIZER:
SEQUENCE:1
SUMMARY:Swing mit dem GSO
TRANSP:OPAQUE
URL:https://literatur-kunstkreis-uslar.de/index.php/programm/archiv/52-swin
 g-mit-dem-gso
END:VEVENT
END:VCALENDAR
