BEGIN:VCALENDAR
VERSION:2.0
PRODID:-//Literatur- und Kunstkreis Uslar e. V.//NONSGML kigkonsult.se iCalcreator 2.41.92//
CALSCALE:GREGORIAN
METHOD:PUBLISH
UID:37396366-3535-4530-b136-306165613138
X-WR-CALNAME:iCagenda
X-WR-CALDESC:Event Management Extension for Joomla!
X-WR-RELCALID:3E26604A-50F4-4449-8B3E-E4F4932D05B5
X-WR-TIMEZONE:Europe/Berlin
BEGIN:VTIMEZONE
TZID:Europe/Berlin
TZUNTIL:20160327T010000Z
BEGIN:STANDARD
TZNAME:CET
DTSTART:20131027T030000
TZOFFSETFROM:+0200
TZOFFSETTO:+0100
RDATE:20141026T030000
RDATE:20151025T030000
END:STANDARD
BEGIN:DAYLIGHT
TZNAME:CEST
DTSTART:20140330T020000
TZOFFSETFROM:+0100
TZOFFSETTO:+0200
RDATE:20150329T020000
END:DAYLIGHT
END:VTIMEZONE
BEGIN:VEVENT
UID:30373166-3165-4131-a339-663966643835
DTSTAMP:20260422T161431Z
CATEGORIES:2014
CLASS:PUBLIC
DESCRIPTION;ALTREP="CID:<FFFF__=0ABBE548DFE235B58f9e8a93d@coffeebean.com>":
 Kulinarischer Abend und humorvolle Zeitreise ins Mittelalter mit Liedern u
 nd Geschichten von Liebeslust\, Alkohol und sonstigen Marotten.Karten nur 
 im Vorverkauf bis spätestens Mo\, 24.06.2014\, in Uslar bei Buchh. Henze (
 05571-2806) oder Touristikbüro (05571-307220).\n \nBardenabende am Mittela
 lterhaus Nienover\nDer Literatur- und Kunstkreis Uslar bietet mittelalterl
 iches Programm mit Gelage\nUslar/Bodenfelde/Nienover. Am 27. und 28.06.201
 4 laden der Literatur- und Kunstkreis Uslar in Zusammenarbeit mit dem Land
 kreis Northeim zu zwei mittelalterlichen Gelagen mit 'Musik\, Spaß und Völ
 lerei' ein.  Beide Bardenabende beginnen um 19:00 Uhr im Mittelalterhaus z
 u Nienover. Neben einem mittelalterlichen Essen – es werden gebratene Haxe
 n und auch ein fleischloses Mahl angeboten – wird SKABA Geschichten\, nive
 auvolle Animationen\, Lieder aus dem Mittelalter und auch späteren Zeiten 
 \, eine Giftprobe und allerlei Narretei präsentieren. Hinter SKABA\, alias
  'Rathimer Theodorius Disphonicus Pfiffikus Kuskus Fiskus\, dem recht mäßi
 gen Burgvoigt von Rathen und Hohnstein' verbirgt sich der Barde Peter Rött
 ig. Weit gereist und prall gelebt\, zieht er mit seiner Laute durch die La
 nde und berichtet seinen Gästen\, während einer humorvollen Zeitreise mit 
 Liedern und Geschichten von Liebeslust\, Alkohol und anderen Marotten.  Zu
 r Person: Peter Röttig\, alias SKABA wurde in der Südharzstadt Nordhausen 
 geboren. Lernte als Kind Geige\, sang im weltberühmten Chor der 'Dresdner 
 Kapellknaben' und studierte anschließend 7 Jahre in Dresden Musik. Er arbe
 itete langjährig an den 'Landesbühnen Sachsen' als Sänger und schrieb nebe
 nbei Musicals\, die in der Endphase der DDR erfolgreich aufgeführt wurden.
  Peter Röttig spielte an renommierten Theatern Deutschlands in diversen Mu
 sicals von der 'Westsidestory' bis zu 'Jesus Christ Superstar' die Hauptro
 llen. Seit 1996 ist er an Musicaltheatern in Hamburg und Bremen engagiert.
  Er wurde als Mitgewinner des Musicalaward in Bremen für die Produktion 'J
 eckyll &amp\; Hyde' nominiert\, gründete die Rockformation 'Silence of Sto
 rm' und das 'Erste Dresdner Geruchstheater'\, ist immer noch Leiter der Vo
 kalformation 'Die Traminer'\, die ähnlich den 'Prinzen' a capella die Hits
  der Weltgeschichte interpretieren. Seit dem Jahr 2000 ist SKABA ausschlie
 ßlich auf Mittelaltermärkten und Weinfesten sowie Banketten als fahrender 
 Sänger und Barde unterwegs. SKABA lebt heute am Rande der Domstadt Meissen
 .
DTSTART:20140627T170000Z
DTEND:20140627T170000Z
GEO:+51.680698;+9.52087
LOCATION:Mittelalter-Haus Nievover
ORGANIZER:
SEQUENCE:1
SUMMARY:Schmaus und Spectakulum
TRANSP:OPAQUE
URL:https://literatur-kunstkreis-uslar.de/index.php/programm/archiv/54-schm
 aus-und-spectakulum
END:VEVENT
END:VCALENDAR
