BEGIN:VCALENDAR
VERSION:2.0
PRODID:-//Literatur- und Kunstkreis Uslar e. V.//NONSGML kigkonsult.se iCalcreator 2.41.92//
CALSCALE:GREGORIAN
METHOD:PUBLISH
UID:33313730-6363-4736-b535-306231343165
X-WR-CALNAME:iCagenda
X-WR-CALDESC:Event Management Extension for Joomla!
X-WR-RELCALID:3E26604A-50F4-4449-8B3E-E4F4932D05B5
X-WR-TIMEZONE:Europe/Berlin
BEGIN:VTIMEZONE
TZID:Europe/Berlin
TZUNTIL:20160327T010000Z
BEGIN:STANDARD
TZNAME:CET
DTSTART:20131027T030000
TZOFFSETFROM:+0200
TZOFFSETTO:+0100
RDATE:20141026T030000
RDATE:20151025T030000
END:STANDARD
BEGIN:DAYLIGHT
TZNAME:CEST
DTSTART:20140330T020000
TZOFFSETFROM:+0100
TZOFFSETTO:+0200
RDATE:20150329T020000
END:DAYLIGHT
END:VTIMEZONE
BEGIN:VEVENT
UID:34383937-3936-4865-b333-363261646632
DTSTAMP:20260422T161531Z
CATEGORIES:2014
CLASS:PUBLIC
DESCRIPTION;ALTREP="CID:<FFFF__=0ABBE548DFE235B58f9e8a93d@coffeebean.com>":
 Gespielte Kindergedichte für Kinder von 8 bis 12 Jahren\, unterhaltsam vor
 getragen von Peter Hub aus Schweinfurt. Der talentierte Schauspieler und A
 utor demonstriert seinem jungen Publikum\, wie spannend und lebendig Gedic
 hte sein können.
DTSTART:20140628T140000Z
DTEND:20140628T140000Z
GEO:+51.654633;+9.655201
LOCATION:Kulturbahnhof Uslar
ORGANIZER:
SEQUENCE:1
SUMMARY:Eine Kuh\, die saß im Schwalbennest
TRANSP:OPAQUE
URL:https://literatur-kunstkreis-uslar.de/index.php/programm/archiv/55-eine
 -kuh-die-sass-im-schwalbennest
END:VEVENT
END:VCALENDAR
