BEGIN:VCALENDAR
VERSION:2.0
PRODID:-//Literatur- und Kunstkreis Uslar e. V.//NONSGML kigkonsult.se iCalcreator 2.41.92//
CALSCALE:GREGORIAN
METHOD:PUBLISH
UID:32343836-3164-4239-b866-356363313363
X-WR-CALNAME:iCagenda
X-WR-CALDESC:Event Management Extension for Joomla!
X-WR-RELCALID:3E26604A-50F4-4449-8B3E-E4F4932D05B5
X-WR-TIMEZONE:Europe/Berlin
BEGIN:VTIMEZONE
TZID:Europe/Berlin
TZUNTIL:20160327T010000Z
BEGIN:STANDARD
TZNAME:CET
DTSTART:20131027T030000
TZOFFSETFROM:+0200
TZOFFSETTO:+0100
RDATE:20141026T030000
RDATE:20151025T030000
END:STANDARD
BEGIN:DAYLIGHT
TZNAME:CEST
DTSTART:20140330T020000
TZOFFSETFROM:+0100
TZOFFSETTO:+0200
RDATE:20150329T020000
END:DAYLIGHT
END:VTIMEZONE
BEGIN:VEVENT
UID:38333436-3131-4165-b132-653639633037
DTSTAMP:20260422T163653Z
CATEGORIES:2014
CLASS:PUBLIC
DESCRIPTION;ALTREP="CID:<FFFF__=0ABBE548DFE235B58f9e8a93d@coffeebean.com>":
 Marie-Luise Marjan\, bekannt als Mutter Beimer aus der Serie 'Lindenstraße
 '\, ist nicht nur als Schauspielerin\, sondern auch als Buchautorin erfolg
 reich. In Uslar liest sie aus ihrem Buch 'Freundschaften' mit Beiträgen z.
 B. von Hans-Dietrich Genscher\, Reinhard Mey und Dieter Hallervorden. Ein 
 berührendes und facettenreiches Thema.
DTSTART:20140726T180000Z
DTEND:20140726T180000Z
GEO:+51.667221;+9.63117
LOCATION:Forum Gymnasium Uslar
ORGANIZER:
SEQUENCE:1
SUMMARY:Freundschaften
TRANSP:OPAQUE
URL:https://literatur-kunstkreis-uslar.de/index.php/programm/archiv/56-freu
 ndschaften
END:VEVENT
END:VCALENDAR
