BEGIN:VCALENDAR
VERSION:2.0
PRODID:-//Literatur- und Kunstkreis Uslar e. V.//NONSGML kigkonsult.se iCalcreator 2.41.92//
CALSCALE:GREGORIAN
METHOD:PUBLISH
UID:34616637-6232-4538-a336-323232376136
X-WR-CALNAME:iCagenda
X-WR-CALDESC:Event Management Extension for Joomla!
X-WR-RELCALID:3E26604A-50F4-4449-8B3E-E4F4932D05B5
X-WR-TIMEZONE:Europe/Berlin
BEGIN:VTIMEZONE
TZID:Europe/Berlin
TZUNTIL:20160327T010000Z
BEGIN:STANDARD
TZNAME:CET
DTSTART:20131027T030000
TZOFFSETFROM:+0200
TZOFFSETTO:+0100
RDATE:20141026T030000
RDATE:20151025T030000
END:STANDARD
BEGIN:DAYLIGHT
TZNAME:CEST
DTSTART:20140330T020000
TZOFFSETFROM:+0100
TZOFFSETTO:+0200
RDATE:20150329T020000
END:DAYLIGHT
END:VTIMEZONE
BEGIN:VEVENT
UID:36326462-3831-4264-b465-626265366533
DTSTAMP:20260422T163714Z
CATEGORIES:2014
CLASS:PUBLIC
DESCRIPTION:
DTSTART:20140919T173000Z
DTEND:20140919T173000Z
GEO:+51.658817;+9.634384
LOCATION:Altes Rathaus\, Lange Straße 1\, 37170 Uslar
ORGANIZER:
SEQUENCE:1
SUMMARY:Veranstaltungshinweis für Literaturfest Niedersachsen: Süchtig nach
  Glück
TRANSP:OPAQUE
URL:https://literatur-kunstkreis-uslar.de/index.php/programm/archiv/57-vera
 nstaltungshinweis-fuer-literaturfest-niedersachsen-suechtig-nach-glueck
END:VEVENT
END:VCALENDAR
