BEGIN:VCALENDAR
VERSION:2.0
PRODID:-//Literatur- und Kunstkreis Uslar e. V.//NONSGML kigkonsult.se iCalcreator 2.41.92//
CALSCALE:GREGORIAN
METHOD:PUBLISH
UID:66306435-6130-4339-b737-316264343831
X-WR-CALNAME:iCagenda
X-WR-CALDESC:Event Management Extension for Joomla!
X-WR-RELCALID:3E26604A-50F4-4449-8B3E-E4F4932D05B5
X-WR-TIMEZONE:Europe/Berlin
BEGIN:VTIMEZONE
TZID:Europe/Berlin
TZUNTIL:20161030T010000Z
BEGIN:STANDARD
TZNAME:CET
DTSTART:20131027T030000
TZOFFSETFROM:+0200
TZOFFSETTO:+0100
RDATE:20141026T030000
RDATE:20151025T030000
END:STANDARD
BEGIN:DAYLIGHT
TZNAME:CEST
DTSTART:20140330T020000
TZOFFSETFROM:+0100
TZOFFSETTO:+0200
RDATE:20150329T020000
RDATE:20160327T020000
END:DAYLIGHT
END:VTIMEZONE
BEGIN:VEVENT
UID:34643839-3134-4762-a663-623332393536
DTSTAMP:20260422T162424Z
CATEGORIES:2014
CLASS:PUBLIC
DESCRIPTION;ALTREP="CID:<FFFF__=0ABBE548DFE235B58f9e8a93d@coffeebean.com>":
 Kreativ-Offensive im Solling !\nPoetry Slam - das heißt offener Dichter/in
 nenwettstreit.Offen: denn hier können alle\, die wollen\, eigene Texte auf
  unserer Bühne dem Publikum präsentieren.Dichterwettstreit: weil es gilt\,
  Texte und Performance gegeneinander abzuwiegen: bester Text\, beste Perfo
 rmance.Und das Publikum muss selbst aktiv mit den Texten umgehen und wird 
 entscheiden\, welcher Text und somit - welch' poetisch Talent gewonnen hat
 .Im Mittelpunkt aber steht das gemeinsame Spiel von Künstler/-in und Publi
 kum.Poetry Slam\, weil es im weitesten Sinne um literarische Texte geht: L
 yrik\, Prosa\, Rap\, Minnesang\, Limericks\, Kurzgeschichten\, Oden\, Dial
 oge\, Dramolette oder was auch immer auf die Bühne kommt: Hauptsache selbs
 t geschrieben und nicht hauptsächlich gesungen.Es gibt 5 Minuten Zeit auf 
 der Bühne und als Hilfsmittel ein Mikrofon und das Textblatt.
DTSTART:20141024T170000Z
DTEND:20141024T170000Z
GEO:+51.659142;+9.642076
LOCATION:Palettenhalle Brauerei Haffner
ORGANIZER:
SEQUENCE:1
SUMMARY:Solling Poetry Slam
TRANSP:OPAQUE
URL:https://literatur-kunstkreis-uslar.de/index.php/programm/archiv/59-soll
 ing-poetry-slam
END:VEVENT
END:VCALENDAR
