BEGIN:VCALENDAR
VERSION:2.0
PRODID:-//Literatur- und Kunstkreis Uslar e. V.//NONSGML kigkonsult.se iCalcreator 2.41.92//
CALSCALE:GREGORIAN
METHOD:PUBLISH
UID:35386536-6133-4365-b464-333165303135
X-WR-CALNAME:iCagenda
X-WR-CALDESC:Event Management Extension for Joomla!
X-WR-RELCALID:3E26604A-50F4-4449-8B3E-E4F4932D05B5
X-WR-TIMEZONE:Europe/Berlin
BEGIN:VTIMEZONE
TZID:Europe/Berlin
TZUNTIL:20110327T010000Z
BEGIN:STANDARD
TZNAME:CET
DTSTART:20081026T030000
TZOFFSETFROM:+0200
TZOFFSETTO:+0100
RDATE:20091025T030000
RDATE:20101031T030000
END:STANDARD
BEGIN:DAYLIGHT
TZNAME:CEST
DTSTART:20090329T020000
TZOFFSETFROM:+0100
TZOFFSETTO:+0200
RDATE:20100328T020000
END:DAYLIGHT
END:VTIMEZONE
BEGIN:VEVENT
UID:65316437-6636-4335-b961-386339656336
DTSTAMP:20260422T150425Z
CATEGORIES:2009
CLASS:PUBLIC
DESCRIPTION:
DTSTART:20090724T180000Z
DTEND:20090724T180000Z
GEO:+51.659588;+9.638566
LOCATION:Café ARTE Uslar
ORGANIZER:
SEQUENCE:1
SUMMARY:'A humming from the wood'
TRANSP:OPAQUE
URL:https://literatur-kunstkreis-uslar.de/index.php/programm/archiv/6-a-hum
 ming-from-the-wood
END:VEVENT
END:VCALENDAR
