BEGIN:VCALENDAR
VERSION:2.0
PRODID:-//Literatur- und Kunstkreis Uslar e. V.//NONSGML kigkonsult.se iCalcreator 2.41.92//
CALSCALE:GREGORIAN
METHOD:PUBLISH
UID:66326461-6233-4533-b232-353338316565
X-WR-CALNAME:iCagenda
X-WR-CALDESC:Event Management Extension for Joomla!
X-WR-RELCALID:3E26604A-50F4-4449-8B3E-E4F4932D05B5
X-WR-TIMEZONE:Europe/Berlin
BEGIN:VTIMEZONE
TZID:Europe/Berlin
TZUNTIL:20161030T010000Z
BEGIN:STANDARD
TZNAME:CET
DTSTART:20141026T030000
TZOFFSETFROM:+0200
TZOFFSETTO:+0100
RDATE:20151025T030000
END:STANDARD
BEGIN:DAYLIGHT
TZNAME:CEST
DTSTART:20140330T020000
TZOFFSETFROM:+0100
TZOFFSETTO:+0200
RDATE:20150329T020000
RDATE:20160327T020000
END:DAYLIGHT
END:VTIMEZONE
BEGIN:VEVENT
UID:36326237-3731-4536-b736-666132633131
DTSTAMP:20260422T162728Z
CATEGORIES:2015
CLASS:PUBLIC
DESCRIPTION:
DTSTART:20150208T170000Z
DTEND:20150208T170000Z
GEO:+51.659389;+9.63189
LOCATION:Ev. Gemeindehaus
ORGANIZER:
SEQUENCE:1
SUMMARY:'Wien is(s)t anders' - Vladimir Skal & Irene Bronder
TRANSP:OPAQUE
URL:https://literatur-kunstkreis-uslar.de/index.php/programm/archiv/62-wien
 -is-s-t-anders-vladimir-skal-irene-bronder
END:VEVENT
END:VCALENDAR
