BEGIN:VCALENDAR
VERSION:2.0
PRODID:-//Literatur- und Kunstkreis Uslar e. V.//NONSGML kigkonsult.se iCalcreator 2.41.92//
CALSCALE:GREGORIAN
METHOD:PUBLISH
UID:36326531-6463-4262-b935-393165626536
X-WR-CALNAME:iCagenda
X-WR-CALDESC:Event Management Extension for Joomla!
X-WR-RELCALID:3E26604A-50F4-4449-8B3E-E4F4932D05B5
X-WR-TIMEZONE:Europe/Berlin
BEGIN:VTIMEZONE
TZID:Europe/Berlin
TZUNTIL:20161030T010000Z
BEGIN:STANDARD
TZNAME:CET
DTSTART:20141026T030000
TZOFFSETFROM:+0200
TZOFFSETTO:+0100
RDATE:20151025T030000
END:STANDARD
BEGIN:DAYLIGHT
TZNAME:CEST
DTSTART:20140330T020000
TZOFFSETFROM:+0100
TZOFFSETTO:+0200
RDATE:20150329T020000
RDATE:20160327T020000
END:DAYLIGHT
END:VTIMEZONE
BEGIN:VEVENT
UID:62616133-3432-4236-a266-383739316461
DTSTAMP:20260422T161621Z
CATEGORIES:2015
CLASS:PUBLIC
DESCRIPTION;ALTREP="CID:<FFFF__=0ABBE548DFE235B58f9e8a93d@coffeebean.com>":
 Hinweis:\nWegen des geringen Platzangebots im Museum\, empfehlen wir eine 
 zeitige Kartenreservierung.\n \nSie sind bekannte Satiriker\, begnadete Re
 imkünstler und Wortakrobaten: die drei Göttinger Peter Köhler\, Klaus Pawl
 owski und Reinhard Umbach. Und sie nennen sich beziehungsreich die 'Die Ne
 ue Göttinger Gruppe oder auch 'Die Drei von der taz-Stelle'\, denn die Ber
 liner 'Tageszeitung' (taz) veröffentlicht regelmäßig ihre bissigen Glossen
  und Gedichte. Sie haben inzwischen zwei Satirebände herausgebracht\, ein 
 dritter Band erscheint in Kürze. Und nun kommen sie nach Uslar und verspre
 chen allen\, die das virtuose Spiel mit der Sprache lieben\, ein Hörvergnü
 gen der besonderen Art. Vor allem: es darf herzhaft gelacht werden.\nDie P
 resse:\nPawlowski und Umbach bevorzugen Gereimtes\, Köhler steht die Prosa
  näher. Alle beherrschen sie die Kunst des genussvollen Wortspiels\, aber 
 auch der scharf geschliffenen politischen Pointe. Göttinger Tageblatt Ihre
  Gedichte sind mal so leicht-duftig wie bei Heine\, mal so doppelbödig wie
  bei Kästner oder auch so tiefgründig wie bei Brecht. Werra-Rundschau Die 
 Besucher der Lesung 'Kalte Zeiten\, Heiße Texte' im ausverkauften Eine-Wel
 t-Laden Witzen hausen bekamen am Samstagabend Satire vom Feinsten aufgetis
 cht und waren begeistert. Das Dichter-Trio lief aber auch zur Höchstform a
 uf. HNA Am Ende hätten die Zuhörer die 'Neue Göttinger Gruppe gerne noch l
 änger gebucht\, doch die mussten den letzten Zug erwischen und sich deshal
 b nach einigen Zugaben und einem rundum gelungenen Abend verabschieden und
  darauf hoffen\, dass die Bahn nicht an diesem Abend für weitere Pointen s
 orgte. Harzkurier
DTSTART:20150320T190000Z
DTEND:20150320T190000Z
GEO:+51.658218;+9.634026
LOCATION:Museum Uslar\, Mühlentor
ORGANIZER:
SEQUENCE:1
SUMMARY:Die Drei von der taz-Stelle
TRANSP:OPAQUE
URL:https://literatur-kunstkreis-uslar.de/index.php/programm/archiv/64-die-
 drei-von-der-taz-stelle
END:VEVENT
END:VCALENDAR
