BEGIN:VCALENDAR
VERSION:2.0
PRODID:-//Literatur- und Kunstkreis Uslar e. V.//NONSGML kigkonsult.se iCalcreator 2.41.92//
CALSCALE:GREGORIAN
METHOD:PUBLISH
UID:32346438-6632-4665-b661-303861346238
X-WR-CALNAME:iCagenda
X-WR-CALDESC:Event Management Extension for Joomla!
X-WR-RELCALID:3E26604A-50F4-4449-8B3E-E4F4932D05B5
X-WR-TIMEZONE:Europe/Berlin
BEGIN:VTIMEZONE
TZID:Europe/Berlin
TZUNTIL:20161030T010000Z
BEGIN:STANDARD
TZNAME:CET
DTSTART:20141026T030000
TZOFFSETFROM:+0200
TZOFFSETTO:+0100
RDATE:20151025T030000
END:STANDARD
BEGIN:DAYLIGHT
TZNAME:CEST
DTSTART:20140330T020000
TZOFFSETFROM:+0100
TZOFFSETTO:+0200
RDATE:20150329T020000
RDATE:20160327T020000
END:DAYLIGHT
END:VTIMEZONE
BEGIN:VEVENT
UID:30346636-3431-4137-b562-333235323633
DTSTAMP:20260422T161201Z
CATEGORIES:2015
CLASS:PUBLIC
DESCRIPTION;ALTREP="CID:<FFFF__=0ABBE548DFE235B58f9e8a93d@coffeebean.com>":
 Ab 12 Jahre\,Selbstkosten 30\,- €(für Taschengeldkunden/-innen der VaBa So
 lling 15\,- €)Inklusive Verpflegung für 4 Tage und Konzertkarte  Anmeldung
  bei:Stadtjugendpflege Uslar05571/5778 oder jugendpflege@uslar.de\n \nDein
 e Gedanken in Worte bringen?Eigene Raptexte reimen?Songs aufnehmen?Wie das
  funktioniert zeigen Dir Dude &amp\; Phaeb.Für Beginner/-in oder Wortakrob
 a/-in.
DTSTART:20150324T230000Z
DTEND:20150327T230000Z
GEO:+51.658218;+9.64002
LOCATION:JugendCafé\, Bahnhaofstraße 10\, Uslar
ORGANIZER:
SEQUENCE:1
SUMMARY:Rap-Workshop
TRANSP:OPAQUE
URL:https://literatur-kunstkreis-uslar.de/index.php/programm/archiv/65-rap-
 workshop
END:VEVENT
END:VCALENDAR
