BEGIN:VCALENDAR
VERSION:2.0
PRODID:-//Literatur- und Kunstkreis Uslar e. V.//NONSGML kigkonsult.se iCalcreator 2.41.92//
CALSCALE:GREGORIAN
METHOD:PUBLISH
UID:32646432-6337-4739-b363-663764383735
X-WR-CALNAME:iCagenda
X-WR-CALDESC:Event Management Extension for Joomla!
X-WR-RELCALID:3E26604A-50F4-4449-8B3E-E4F4932D05B5
X-WR-TIMEZONE:Europe/Berlin
BEGIN:VTIMEZONE
TZID:Europe/Berlin
TZUNTIL:20161030T010000Z
BEGIN:STANDARD
TZNAME:CET
DTSTART:20141026T030000
TZOFFSETFROM:+0200
TZOFFSETTO:+0100
RDATE:20151025T030000
END:STANDARD
BEGIN:DAYLIGHT
TZNAME:CEST
DTSTART:20140330T020000
TZOFFSETFROM:+0100
TZOFFSETTO:+0200
RDATE:20150329T020000
RDATE:20160327T020000
END:DAYLIGHT
END:VTIMEZONE
BEGIN:VEVENT
UID:37323834-3766-4733-a566-336136626634
DTSTAMP:20260422T161627Z
CATEGORIES:2015
CLASS:PUBLIC
DESCRIPTION;ALTREP="CID:<FFFF__=0ABBE548DFE235B58f9e8a93d@coffeebean.com>":
 27. März: 13:00 Uhr bis 18:00 Uhr28. März: Ab 15:00 Uhr  Ab 16 JahreTeilne
 hmerbeitrag mit Verpflegung: 8 €Anmeldung bei Kristina Bäthe: 05571/800870
 \n \nDas wolltest Du doch immer schon mal – den Andern so richtig die Mein
 ung sagen! Deine Gedanken ausdrücken\, Deine Worte aufschreiben\,... und d
 as dann auch noch auf die Bühne bringen - so packend\, dass sie alle staun
 en... 'Boah-ey!' Du kannst das!Beim Poetry Slam-Workshop lernst du von erf
 ahrenen Slammern\, wie man die Bühne rockt. Im Vordergrund stehen dabei pr
 aktische Übungen und die konkrete Arbeit an euren Texten die auch daraus b
 estehen kann\, erst einmal welche zu schreiben.
DTSTART:20150327T120000Z
DTEND:20150327T120000Z
GEO:+51.654633;+9.655201
LOCATION:Kulturbahnhof Uslar
ORGANIZER:
SEQUENCE:1
SUMMARY:Poetry Slam-Workshop
TRANSP:OPAQUE
URL:https://literatur-kunstkreis-uslar.de/index.php/programm/archiv/66-poet
 ry-slam-workshop/2015-03-27-13-00
END:VEVENT
END:VCALENDAR
