BEGIN:VCALENDAR
VERSION:2.0
PRODID:-//Literatur- und Kunstkreis Uslar e. V.//NONSGML kigkonsult.se iCalcreator 2.41.92//
CALSCALE:GREGORIAN
METHOD:PUBLISH
UID:31303039-3835-4334-b135-383361363637
X-WR-CALNAME:iCagenda
X-WR-CALDESC:Event Management Extension for Joomla!
X-WR-RELCALID:3E26604A-50F4-4449-8B3E-E4F4932D05B5
X-WR-TIMEZONE:Europe/Berlin
BEGIN:VTIMEZONE
TZID:Europe/Berlin
TZUNTIL:20161030T010000Z
BEGIN:STANDARD
TZNAME:CET
DTSTART:20141026T030000
TZOFFSETFROM:+0200
TZOFFSETTO:+0100
RDATE:20151025T030000
END:STANDARD
BEGIN:DAYLIGHT
TZNAME:CEST
DTSTART:20150329T020000
TZOFFSETFROM:+0100
TZOFFSETTO:+0200
RDATE:20160327T020000
END:DAYLIGHT
END:VTIMEZONE
BEGIN:VEVENT
UID:61346133-6534-4239-a236-663032663163
DTSTAMP:20260422T161352Z
CATEGORIES:2015
CLASS:PUBLIC
DESCRIPTION:
DTSTART:20150414T220000Z
DTEND:20150414T220000Z
GEO:+51.667221;+9.63117
LOCATION:Gymnasium Uslar
ORGANIZER:
SEQUENCE:1
SUMMARY:Kooperation mit der Stadtbücherei:
TRANSP:OPAQUE
URL:https://literatur-kunstkreis-uslar.de/index.php/programm/archiv/69-koop
 eration-mit-der-stadtbuecherei
END:VEVENT
END:VCALENDAR
