BEGIN:VCALENDAR
VERSION:2.0
PRODID:-//Literatur- und Kunstkreis Uslar e. V.//NONSGML kigkonsult.se iCalcreator 2.41.92//
CALSCALE:GREGORIAN
METHOD:PUBLISH
UID:64646265-6638-4234-b033-393864646261
X-WR-CALNAME:iCagenda
X-WR-CALDESC:Event Management Extension for Joomla!
X-WR-RELCALID:3E26604A-50F4-4449-8B3E-E4F4932D05B5
X-WR-TIMEZONE:Europe/Berlin
BEGIN:VTIMEZONE
TZID:Europe/Berlin
TZUNTIL:20161030T010000Z
BEGIN:STANDARD
TZNAME:CET
DTSTART:20141026T030000
TZOFFSETFROM:+0200
TZOFFSETTO:+0100
RDATE:20151025T030000
END:STANDARD
BEGIN:DAYLIGHT
TZNAME:CEST
DTSTART:20150329T020000
TZOFFSETFROM:+0100
TZOFFSETTO:+0200
RDATE:20160327T020000
END:DAYLIGHT
END:VTIMEZONE
BEGIN:VEVENT
UID:33386263-6263-4539-b838-373138643831
DTSTAMP:20260422T161204Z
CATEGORIES:2015
CLASS:PUBLIC
DESCRIPTION;ALTREP="CID:<FFFF__=0ABBE548DFE235B58f9e8a93d@coffeebean.com>":
 Kostenfrei\, eigene Verpflegung mitbringen. Die Stunden werden bei Deiner 
 JULEICA anerkannt. Anmeldung bei:StadtjugendpflegerKristian Thiemann05571 
 5778jugendpflege@uslar.de\n \nImprotheater heißt improvisiertes Theater.Es
  gibt kein festes Drehbuch.Du erfindest spontan die Handlung.In diesem Sem
 inar lemst Du wie das geht.
DTSTART:20150418T080000Z
DTEND:20150418T160000Z
GEO:+51.658218;+9.64002
LOCATION:Haus der Jugend\, Bahnhofstraße 10
ORGANIZER:
SEQUENCE:1
SUMMARY:Improtheater
TRANSP:OPAQUE
URL:https://literatur-kunstkreis-uslar.de/index.php/programm/archiv/70-impr
 otheater
END:VEVENT
END:VCALENDAR
