BEGIN:VCALENDAR
VERSION:2.0
PRODID:-//Literatur- und Kunstkreis Uslar e. V.//NONSGML kigkonsult.se iCalcreator 2.41.92//
CALSCALE:GREGORIAN
METHOD:PUBLISH
UID:62376137-6265-4063-a465-363065313030
X-WR-CALNAME:iCagenda
X-WR-CALDESC:Event Management Extension for Joomla!
X-WR-RELCALID:3E26604A-50F4-4449-8B3E-E4F4932D05B5
X-WR-TIMEZONE:Europe/Berlin
BEGIN:VTIMEZONE
TZID:Europe/Berlin
TZUNTIL:20170326T010000Z
BEGIN:STANDARD
TZNAME:CET
DTSTART:20141026T030000
TZOFFSETFROM:+0200
TZOFFSETTO:+0100
RDATE:20151025T030000
RDATE:20161030T030000
END:STANDARD
BEGIN:DAYLIGHT
TZNAME:CEST
DTSTART:20150329T020000
TZOFFSETFROM:+0100
TZOFFSETTO:+0200
RDATE:20160327T020000
END:DAYLIGHT
END:VTIMEZONE
BEGIN:VEVENT
UID:38666434-3636-4835-b961-326532373337
DTSTAMP:20260422T161654Z
CATEGORIES:2015
CLASS:PUBLIC
DESCRIPTION;ALTREP="CID:<FFFF__=0ABBE548DFE235B58f9e8a93d@coffeebean.com>":
 – und schon zum 4. Mal in Uslar! Ihr neuestes Stück: 'Glaube\, Liebe\, Sel
 bstanzeige'. Ihr Motto: Spare in der Schweiz\, so hast du in der Not und k
 ommst bei einer Selbstanzeige mit einem 'Du\, du!' davon. Erneuter Großang
 riff auf unsere Lachmuskeln.
DTSTART:20150529T180000Z
DTEND:20150529T180000Z
GEO:+51.67968;+9.640596
LOCATION:Gasthaus Johanning
ORGANIZER:
SEQUENCE:1
SUMMARY:60 Jahre Leipziger Pfeffermühle
TRANSP:OPAQUE
URL:https://literatur-kunstkreis-uslar.de/index.php/programm/archiv/72-60-j
 ahre-leipziger-pfeffermuehle
END:VEVENT
END:VCALENDAR
