BEGIN:VCALENDAR
VERSION:2.0
PRODID:-//Literatur- und Kunstkreis Uslar e. V.//NONSGML kigkonsult.se iCalcreator 2.41.92//
CALSCALE:GREGORIAN
METHOD:PUBLISH
UID:36383439-3031-4261-b338-393363656231
X-WR-CALNAME:iCagenda
X-WR-CALDESC:Event Management Extension for Joomla!
X-WR-RELCALID:3E26604A-50F4-4449-8B3E-E4F4932D05B5
X-WR-TIMEZONE:Europe/Berlin
BEGIN:VTIMEZONE
TZID:Europe/Berlin
TZUNTIL:20170326T010000Z
BEGIN:STANDARD
TZNAME:CET
DTSTART:20141026T030000
TZOFFSETFROM:+0200
TZOFFSETTO:+0100
RDATE:20151025T030000
RDATE:20161030T030000
END:STANDARD
BEGIN:DAYLIGHT
TZNAME:CEST
DTSTART:20150329T020000
TZOFFSETFROM:+0100
TZOFFSETTO:+0200
RDATE:20160327T020000
END:DAYLIGHT
END:VTIMEZONE
BEGIN:VEVENT
UID:34356365-3236-4137-a637-613336646662
DTSTAMP:20260422T161533Z
CATEGORIES:2015
CLASS:PUBLIC
DESCRIPTION;ALTREP="CID:<FFFF__=0ABBE548DFE235B58f9e8a93d@coffeebean.com>":
 Die gemeine Blockflöte\, eine Konzertgitarre und ein Kontrabass: wenn das 
 nicht mal eine astreine Besetzung für eine Rockband ist! Verblüffende Bear
 beitungen bekannter Radio-Hits\, rockige Adaptionen klassischer Werke und 
 klanglich faszinierende Eigenkompositionen.\nBlowjob porn https://www.xxxt
 ube1.com/categories/101/blowjob watch online.
DTSTART:20150606T173000Z
DTEND:20150606T173000Z
GEO:+51.625259;+9.557895
LOCATION:Klosterkirche Lippoldsberg (bei Sonne draußen!)
ORGANIZER:
SEQUENCE:1
SUMMARY:'Astrein!' - Wildes Holz
TRANSP:OPAQUE
URL:https://literatur-kunstkreis-uslar.de/index.php/programm/archiv/73-astr
 ein-wildes-holz
END:VEVENT
END:VCALENDAR
