BEGIN:VCALENDAR
VERSION:2.0
PRODID:-//Literatur- und Kunstkreis Uslar e. V.//NONSGML kigkonsult.se iCalcreator 2.41.92//
CALSCALE:GREGORIAN
METHOD:PUBLISH
UID:61633134-6139-4732-b838-353062373364
X-WR-CALNAME:iCagenda
X-WR-CALDESC:Event Management Extension for Joomla!
X-WR-RELCALID:3E26604A-50F4-4449-8B3E-E4F4932D05B5
X-WR-TIMEZONE:Europe/Berlin
BEGIN:VTIMEZONE
TZID:Europe/Berlin
TZUNTIL:20171029T010000Z
BEGIN:STANDARD
TZNAME:CET
DTSTART:20141026T030000
TZOFFSETFROM:+0200
TZOFFSETTO:+0100
RDATE:20151025T030000
RDATE:20161030T030000
END:STANDARD
BEGIN:DAYLIGHT
TZNAME:CEST
DTSTART:20150329T020000
TZOFFSETFROM:+0100
TZOFFSETTO:+0200
RDATE:20160327T020000
RDATE:20170326T020000
END:DAYLIGHT
END:VTIMEZONE
BEGIN:VEVENT
UID:65306266-3063-4336-a266-393134356163
DTSTAMP:20260422T161814Z
CATEGORIES:2015
CLASS:PUBLIC
DESCRIPTION:
DTSTART:20150926T190000Z
DTEND:20150926T190000Z
GEO:+51.65844;+9.633342
LOCATION:St. Johanniskirche Uslar
ORGANIZER:
SEQUENCE:1
SUMMARY:Uslarer Nacht der Kultur - Nachtschwärmereien
TRANSP:OPAQUE
URL:https://literatur-kunstkreis-uslar.de/index.php/programm/archiv/74-usla
 rer-nacht-der-kultur-nachtschwaermereien
END:VEVENT
END:VCALENDAR
