BEGIN:VCALENDAR
VERSION:2.0
PRODID:-//Literatur- und Kunstkreis Uslar e. V.//NONSGML kigkonsult.se iCalcreator 2.41.92//
CALSCALE:GREGORIAN
METHOD:PUBLISH
UID:35376465-6264-4662-b937-623933386364
X-WR-CALNAME:iCagenda
X-WR-CALDESC:Event Management Extension for Joomla!
X-WR-RELCALID:3E26604A-50F4-4449-8B3E-E4F4932D05B5
X-WR-TIMEZONE:Europe/Berlin
BEGIN:VTIMEZONE
TZID:Europe/Berlin
TZUNTIL:20171029T010000Z
BEGIN:STANDARD
TZNAME:CET
DTSTART:20151025T030000
TZOFFSETFROM:+0200
TZOFFSETTO:+0100
RDATE:20161030T030000
END:STANDARD
BEGIN:DAYLIGHT
TZNAME:CEST
DTSTART:20150329T020000
TZOFFSETFROM:+0100
TZOFFSETTO:+0200
RDATE:20160327T020000
RDATE:20170326T020000
END:DAYLIGHT
END:VTIMEZONE
BEGIN:VEVENT
UID:61633562-3332-4536-a235-623732323465
DTSTAMP:20260422T161813Z
CATEGORIES:2015
CLASS:PUBLIC
DESCRIPTION;ALTREP="CID:<FFFF__=0ABBE548DFE235B58f9e8a93d@coffeebean.com>":
 Liedermacher und Entertainer Detlef Hörold hat es schon mehr als 2000 mal 
 geschafft\, das kritischste Publikum der Welt\, nämlich Kinder\, zu begeis
 tern. In seiner Show ist Mitmachen\, -singen &amp\; -schnipsen nicht nur e
 rlaubt\, sondern erwünscht! Für Kinder von 4 - 9 Jahren und deren 'Anhang'
 .
DTSTART:20151108T150000Z
DTEND:20151108T150000Z
GEO:+51.661602;+9.63873
LOCATION:Friedenskirche Uslar\, Stiftstr. 7
ORGANIZER:
SEQUENCE:1
SUMMARY:'Die große Show für kleine Leute' - Detlef Hörold
TRANSP:OPAQUE
URL:https://literatur-kunstkreis-uslar.de/index.php/programm/archiv/76-die-
 grosse-show-fuer-kleine-leute-detlef-hoerold
END:VEVENT
END:VCALENDAR
