BEGIN:VCALENDAR
VERSION:2.0
PRODID:-//Literatur- und Kunstkreis Uslar e. V.//NONSGML kigkonsult.se iCalcreator 2.41.92//
CALSCALE:GREGORIAN
METHOD:PUBLISH
UID:30343837-3161-4632-a561-636635653766
X-WR-CALNAME:iCagenda
X-WR-CALDESC:Event Management Extension for Joomla!
X-WR-RELCALID:3E26604A-50F4-4449-8B3E-E4F4932D05B5
X-WR-TIMEZONE:Europe/Berlin
BEGIN:VTIMEZONE
TZID:Europe/Berlin
TZUNTIL:20171029T010000Z
BEGIN:STANDARD
TZNAME:CET
DTSTART:20151025T030000
TZOFFSETFROM:+0200
TZOFFSETTO:+0100
RDATE:20161030T030000
END:STANDARD
BEGIN:DAYLIGHT
TZNAME:CEST
DTSTART:20150329T020000
TZOFFSETFROM:+0100
TZOFFSETTO:+0200
RDATE:20160327T020000
RDATE:20170326T020000
END:DAYLIGHT
END:VTIMEZONE
BEGIN:VEVENT
UID:63366435-6565-4339-b239-376366666266
DTSTAMP:20260422T161751Z
CATEGORIES:2015
CLASS:PUBLIC
DESCRIPTION;ALTREP="CID:<FFFF__=0ABBE548DFE235B58f9e8a93d@coffeebean.com>":
 Humor und Witz\, Boni und Beta-Blocker\, Cash und Crash\, Mobbing und Russ
 en-Mafia. Hans-Jörg Frey\, langjähriges Mitglied des 'Deutschen Schauspiel
 hauses' (Hamburg) und des 'Thalia Theaters'\, ist Schweizer. Er nimmt Sie 
 mit auf die Reise in die geheimnisvolle Welt des Finanzjongleurs Philipp K
 uster – ein Blick in das Haifischbecken der Bankenwelt.\n \nJahresabschlus
 s beim Literatur- und Kunstkreis\nUSLAR. Mit einem kabarettistischen Ein-M
 ann-Theaterstück beendet der Literaturund Kunstkreis Uslar sein Jahresprog
 ramm 2015 am Freitag\, 20. November. Ab 20 Uhr präsentiert im evangelische
 n Gemeindehaus in Uslar\, Kreuzstraße 5\, Hans-Jörg Frey das Stück 'Bank\,
  Banker\, Bankrott'.Das Stück bietet einen Blick in das Haifischbecken der
  Bankenwelt\, heißt es vorab. Hans- Jörg Frey\, langjähriges Mitglied des 
 Deutschen Schauspielhauses und des Thalia Theaters\, ist Schweizer und nim
 mt das Publikum mit auf eine Reise in die geheimnisvolle Welt des Finanzjo
 ngleurs Philipp Kuster\, seines Zeichens Banker\, Anlageberater aus Zürich
 . Der hat es geschafft\, verdient viel Geld\, ist oben angekommen. 'Doch s
 chauen Sie einmal hinter die Fassade. Und lernen Sie verstehen\, wie hart 
 das Leben eines Anlageberaters ist'\, steht in der Vorankündigung. Es ist 
 ein Stück nach dem gleichnamigen Buch von René Zeyer in einer Bühnenfassun
 g von Thomas Köller. (fsd)Der Eintritt kostet 12 Euro\, Mitglieder des Lit
 eratur- und Kunstkreises zahlen 10 Euro.
DTSTART:20151120T190000Z
DTEND:20151120T190000Z
GEO:+51.659389;+9.63189
LOCATION:Ev. Gemeindehaus
ORGANIZER:
SEQUENCE:1
SUMMARY:'Bank\, Banker\, Bankrott' - Hans-Jörg Frey solo
TRANSP:OPAQUE
URL:https://literatur-kunstkreis-uslar.de/index.php/programm/archiv/77-bank
 -banker-bankrott-hans-joerg-frey-solo
END:VEVENT
END:VCALENDAR
