BEGIN:VCALENDAR
VERSION:2.0
PRODID:-//Literatur- und Kunstkreis Uslar e. V.//NONSGML kigkonsult.se iCalcreator 2.41.92//
CALSCALE:GREGORIAN
METHOD:PUBLISH
UID:66353661-6138-4330-b366-363666633532
X-WR-CALNAME:iCagenda
X-WR-CALDESC:Event Management Extension for Joomla!
X-WR-RELCALID:3E26604A-50F4-4449-8B3E-E4F4932D05B5
X-WR-TIMEZONE:Europe/Berlin
BEGIN:VTIMEZONE
TZID:Europe/Berlin
TZUNTIL:20171029T010000Z
BEGIN:STANDARD
TZNAME:CET
DTSTART:20151025T030000
TZOFFSETFROM:+0200
TZOFFSETTO:+0100
RDATE:20161030T030000
END:STANDARD
BEGIN:DAYLIGHT
TZNAME:CEST
DTSTART:20150329T020000
TZOFFSETFROM:+0100
TZOFFSETTO:+0200
RDATE:20160327T020000
RDATE:20170326T020000
END:DAYLIGHT
END:VTIMEZONE
BEGIN:VEVENT
UID:33633830-3531-4366-b866-393161613131
DTSTAMP:20260422T161846Z
CATEGORIES:2016
CLASS:PUBLIC
DESCRIPTION;ALTREP="CID:<FFFF__=0ABBE548DFE235B58f9e8a93d@coffeebean.com>":
 Vor 50 Jahren hat Ulli Bögershausen begonnen\, Gitarre zu spielen. 'Love m
 e do' von den Beatles hatte 1963 den damals Neunjährigen so begeistert\, d
 ass er mit der Gitarre begann. Nach vielen Umwegen begann später seine Kar
 riere als Berufsmusiker\, die ihn mit Bands durch die Beatclubs der 60er\,
  dann als Solist durch die Berliner Folkclubs der 70iger und ab den 80er J
 ahren auf die nationalen und internationalen Konzertbühnen führte.\nSechsz
 ehn CD´s und ebenso viele Musikbücher mit Lehrmaterial und seinen Komposit
 ionen sind Ausdruck seiner Kreativität. Parallel gründete Ulli Bögerhausen
  seines eigenes Platten-Label und produzierte zahlreiche Veröffentlichunge
 n anderer Musiker und hat seit vielen Jahren auch immer wieder Workshops z
 ur Spielweise der akustischen Fingerstyle-Gitarre\, speziellen Stimmungen 
 der Gitarre und zu seinen Kompositionen veranstaltet.  War Ulli Bögershaus
 en am Anfang noch stark von Musikern wie David Qualey\, Werner Lämmerhirt 
 und vor allem auch Leo Kottke inspiriert\, fand er sehr schnell zu seinem 
 persönlichen Stil. Ulli Bögershausen ist ein Gitarrenzauberer: Er kann die
  Zeit still stehen lassen und Bilder auf die Seelen seiner Zuhörer malen -
  unaufdringlich und stimmungsvoll: leuchtende Vignetten von der Heiterkeit
  eines Spätsommertages\, in denen sich eine sanfte Melancholie wunderbar v
 ermischt mit südlicher Lebensfreude.  Seine feingesponnenen Kompositionen 
 werden von vielen Gitarristinnen und Gitarristen in der ganzen Welt gespie
 lt. Bögershausen ist aber auch ein einfühlsamer Interpret populärer Hits u
 nd seine Arrangements bekannter Titel sind ebenso beliebt wie seine eigene
  Musik. In letzter Zeit hat sich Bögershausen auch der Bearbeitung von Vol
 ksliedern für die Solo-Gitarre gewidmet. Sein Konzert-Repertoire ist ebens
 o vielseitig und unterhaltsam wie seine umfangreichen CD- und Noten-Veröff
 entlichungen.  In den achtziger Jahren war Ulli Bögershausen schon einmal 
 im Landkreis Northeim zu Gast. Nun ist er zum Jahresende von der Mosel nac
 h Uslar in den Solling gezogen. Ein guter Grund\, ihn in einem Willkommens
 konzert in seiner neuen Heimat vorzustellen und wieder einmal in einem Kon
 zert der Initiative Kunst &amp\; Kultur Northeim zu präsentieren.  In der 
 Veranstaltung wird auch die 2013 veröffentlichte Biografie 'Ulli Bögershau
 sen - Chocolate and Wine - Aus dem Leben eines Musikers' vorgestellt\, aus
  der Bögershausen lesen und aus seinem Musikerleben erzählen wird.  Die Ve
 ranstaltung ist eine Kooperation mit dem Literatur- und Kunstkreis Uslar e
 .V.
DTSTART:20160214T150000Z
DTEND:20160214T150000Z
GEO:+51.658218;+9.634026
LOCATION:Museum Uslar\, Lange Straße 1\, 37170 Uslar\, Museumsstübchen (Neb
 engebäude)
ORGANIZER:
SEQUENCE:1
SUMMARY:Initiative Kunst & Kultur Northeim e. V. präsentiert: Ulli Bögersha
 usen
TRANSP:OPAQUE
URL:https://literatur-kunstkreis-uslar.de/index.php/programm/archiv/79-init
 iative-kunst-kultur-northeim-e-v-praesentiert-ulli-boegershausen
END:VEVENT
END:VCALENDAR
