BEGIN:VCALENDAR
VERSION:2.0
PRODID:-//Literatur- und Kunstkreis Uslar e. V.//NONSGML kigkonsult.se iCalcreator 2.41.92//
CALSCALE:GREGORIAN
METHOD:PUBLISH
UID:34396238-3937-4437-b364-336562303566
X-WR-CALNAME:iCagenda
X-WR-CALDESC:Event Management Extension for Joomla!
X-WR-RELCALID:3E26604A-50F4-4449-8B3E-E4F4932D05B5
X-WR-TIMEZONE:Europe/Berlin
BEGIN:VTIMEZONE
TZID:Europe/Berlin
TZUNTIL:20110327T010000Z
BEGIN:STANDARD
TZNAME:CET
DTSTART:20081026T030000
TZOFFSETFROM:+0200
TZOFFSETTO:+0100
RDATE:20091025T030000
RDATE:20101031T030000
END:STANDARD
BEGIN:DAYLIGHT
TZNAME:CEST
DTSTART:20090329T020000
TZOFFSETFROM:+0100
TZOFFSETTO:+0200
RDATE:20100328T020000
END:DAYLIGHT
END:VTIMEZONE
BEGIN:VEVENT
UID:36333735-6466-4538-b061-623637646662
DTSTAMP:20260422T150526Z
CATEGORIES:2009
CLASS:PUBLIC
DESCRIPTION:
DTSTART:20090821T170000Z
DTEND:20090821T170000Z
GEO:+51.639561;+9.557326
LOCATION:Bodenfelde
ORGANIZER:
SEQUENCE:1
SUMMARY:Riverboat-Shuffle auf der Weser
TRANSP:OPAQUE
URL:https://literatur-kunstkreis-uslar.de/index.php/programm/archiv/8-river
 boat-shuffle-auf-der-weser
END:VEVENT
END:VCALENDAR
