BEGIN:VCALENDAR
VERSION:2.0
PRODID:-//Literatur- und Kunstkreis Uslar e. V.//NONSGML kigkonsult.se iCalcreator 2.41.92//
CALSCALE:GREGORIAN
METHOD:PUBLISH
UID:31636133-6662-4834-b737-366634396533
X-WR-CALNAME:iCagenda
X-WR-CALDESC:Event Management Extension for Joomla!
X-WR-RELCALID:3E26604A-50F4-4449-8B3E-E4F4932D05B5
X-WR-TIMEZONE:Europe/Berlin
BEGIN:VTIMEZONE
TZID:Europe/Berlin
TZUNTIL:20171029T010000Z
BEGIN:STANDARD
TZNAME:CET
DTSTART:20151025T030000
TZOFFSETFROM:+0200
TZOFFSETTO:+0100
RDATE:20161030T030000
END:STANDARD
BEGIN:DAYLIGHT
TZNAME:CEST
DTSTART:20150329T020000
TZOFFSETFROM:+0100
TZOFFSETTO:+0200
RDATE:20160327T020000
RDATE:20170326T020000
END:DAYLIGHT
END:VTIMEZONE
BEGIN:VEVENT
UID:33326638-3632-4734-b438-383139643437
DTSTAMP:20260422T161208Z
CATEGORIES:2016
CLASS:PUBLIC
DESCRIPTION;ALTREP="CID:<FFFF__=0ABBE548DFE235B58f9e8a93d@coffeebean.com>":
 Die Jazzband Shoot the Moon mit Almut Schlichting sowie Ruth Schmitz (Thea
 ter der Nacht) pr&auml\;sentieren eine schillernde Welt aus Songs und Gesc
 hichten\, bev&ouml\;lkert von weitgereisten Spielleuten\, munteren K&ouml\
 ;chen\, franz&ouml\;sischen W&ouml\;lfen\, spanischen Kaninchen\, Eseln mi
 t Bischofsm&uuml\;tzen und dem Heiligen der Kaffeeh&auml\;user.
DTSTART:20160303T190000Z
DTEND:20160303T190000Z
GEO:+51.658817;+9.634384
LOCATION:Rathaussaal Uslar
ORGANIZER:
SEQUENCE:1
SUMMARY:Saintsand Fools
TRANSP:OPAQUE
URL:https://literatur-kunstkreis-uslar.de/index.php/programm/archiv/80-sain
 tsand-fools
END:VEVENT
END:VCALENDAR
