BEGIN:VCALENDAR
VERSION:2.0
PRODID:-//Literatur- und Kunstkreis Uslar e. V.//NONSGML kigkonsult.se iCalcreator 2.41.92//
CALSCALE:GREGORIAN
METHOD:PUBLISH
UID:36666634-3566-4665-b837-366534646262
X-WR-CALNAME:iCagenda
X-WR-CALDESC:Event Management Extension for Joomla!
X-WR-RELCALID:3E26604A-50F4-4449-8B3E-E4F4932D05B5
X-WR-TIMEZONE:Europe/Berlin
BEGIN:VTIMEZONE
TZID:Europe/Berlin
TZUNTIL:20171029T010000Z
BEGIN:STANDARD
TZNAME:CET
DTSTART:20151025T030000
TZOFFSETFROM:+0200
TZOFFSETTO:+0100
RDATE:20161030T030000
END:STANDARD
BEGIN:DAYLIGHT
TZNAME:CEST
DTSTART:20160327T020000
TZOFFSETFROM:+0100
TZOFFSETTO:+0200
RDATE:20170326T020000
END:DAYLIGHT
END:VTIMEZONE
BEGIN:VEVENT
UID:37633535-3136-4638-a661-316639356437
DTSTAMP:20260422T161352Z
CATEGORIES:2016
CLASS:PUBLIC
DESCRIPTION:
DTSTART:20160408T180000Z
DTEND:20160408T180000Z
GEO:+51.67968;+9.640596
LOCATION:Gasthaus 'Zur Erholung'\, Uslar-Eschershausen
ORGANIZER:
SEQUENCE:1
SUMMARY:New Orleans Jazz
TRANSP:OPAQUE
URL:https://literatur-kunstkreis-uslar.de/index.php/programm/archiv/82-new-
 orleans-jazz
END:VEVENT
END:VCALENDAR
