BEGIN:VCALENDAR
VERSION:2.0
PRODID:-//Literatur- und Kunstkreis Uslar e. V.//NONSGML kigkonsult.se iCalcreator 2.41.92//
CALSCALE:GREGORIAN
METHOD:PUBLISH
UID:64373930-3136-4661-a631-356130353463
X-WR-CALNAME:iCagenda
X-WR-CALDESC:Event Management Extension for Joomla!
X-WR-RELCALID:3E26604A-50F4-4449-8B3E-E4F4932D05B5
X-WR-TIMEZONE:Europe/Berlin
BEGIN:VTIMEZONE
TZID:Europe/Berlin
TZUNTIL:20171029T010000Z
BEGIN:STANDARD
TZNAME:CET
DTSTART:20151025T030000
TZOFFSETFROM:+0200
TZOFFSETTO:+0100
RDATE:20161030T030000
END:STANDARD
BEGIN:DAYLIGHT
TZNAME:CEST
DTSTART:20160327T020000
TZOFFSETFROM:+0100
TZOFFSETTO:+0200
RDATE:20170326T020000
END:DAYLIGHT
END:VTIMEZONE
BEGIN:VEVENT
UID:35343135-3034-4135-a330-343334363937
DTSTAMP:20260422T161431Z
CATEGORIES:2016
CLASS:PUBLIC
DESCRIPTION;ALTREP="CID:<FFFF__=0ABBE548DFE235B58f9e8a93d@coffeebean.com>":
 Die mongolischen Meistersänger der Gruppe Sedaa und ein virtuoser Hackbret
 tspieler entführen gemeinsam mit einem iranischen Multiinstrumentalisten i
 n die exotische Welt des Orients und der mongolischen Steppe.
DTSTART:20160423T173000Z
DTEND:20160423T173000Z
GEO:+51.625259;+9.557895
LOCATION:Klosterkeller Lippoldsberg
ORGANIZER:
SEQUENCE:1
SUMMARY:Klangwelt der mongolischen Steppen
TRANSP:OPAQUE
URL:https://literatur-kunstkreis-uslar.de/index.php/programm/archiv/83-klan
 gwelt-der-mongolischen-steppen
END:VEVENT
END:VCALENDAR
