BEGIN:VCALENDAR
VERSION:2.0
PRODID:-//Literatur- und Kunstkreis Uslar e. V.//NONSGML kigkonsult.se iCalcreator 2.41.92//
CALSCALE:GREGORIAN
METHOD:PUBLISH
UID:36303132-3465-4239-b764-373164633066
X-WR-CALNAME:iCagenda
X-WR-CALDESC:Event Management Extension for Joomla!
X-WR-RELCALID:3E26604A-50F4-4449-8B3E-E4F4932D05B5
X-WR-TIMEZONE:Europe/Berlin
BEGIN:VTIMEZONE
TZID:Europe/Berlin
TZUNTIL:20180325T010000Z
BEGIN:STANDARD
TZNAME:CET
DTSTART:20151025T030000
TZOFFSETFROM:+0200
TZOFFSETTO:+0100
RDATE:20161030T030000
RDATE:20171029T030000
END:STANDARD
BEGIN:DAYLIGHT
TZNAME:CEST
DTSTART:20160327T020000
TZOFFSETFROM:+0100
TZOFFSETTO:+0200
RDATE:20170326T020000
END:DAYLIGHT
END:VTIMEZONE
BEGIN:VEVENT
UID:34366234-3138-4962-a262-643965343865
DTSTAMP:20260422T161533Z
CATEGORIES:2016
CLASS:PUBLIC
DESCRIPTION:
DTSTART:20160528T180000Z
DTEND:20160528T180000Z
GEO:00;0
LOCATION:Kulturbahnhof Uslar
ORGANIZER:
SEQUENCE:1
SUMMARY:Die lustigen Weiber von Windsor
TRANSP:OPAQUE
URL:https://literatur-kunstkreis-uslar.de/index.php/programm/archiv/84-die-
 lustigen-weiber-von-windsor
END:VEVENT
END:VCALENDAR
