BEGIN:VCALENDAR
VERSION:2.0
PRODID:-//Literatur- und Kunstkreis Uslar e. V.//NONSGML kigkonsult.se iCalcreator 2.41.92//
CALSCALE:GREGORIAN
METHOD:PUBLISH
UID:33383865-3239-4535-b732-323563616163
X-WR-CALNAME:iCagenda
X-WR-CALDESC:Event Management Extension for Joomla!
X-WR-RELCALID:3E26604A-50F4-4449-8B3E-E4F4932D05B5
X-WR-TIMEZONE:Europe/Berlin
BEGIN:VTIMEZONE
TZID:Europe/Berlin
TZUNTIL:20180325T010000Z
BEGIN:STANDARD
TZNAME:CET
DTSTART:20151025T030000
TZOFFSETFROM:+0200
TZOFFSETTO:+0100
RDATE:20161030T030000
RDATE:20171029T030000
END:STANDARD
BEGIN:DAYLIGHT
TZNAME:CEST
DTSTART:20160327T020000
TZOFFSETFROM:+0100
TZOFFSETTO:+0200
RDATE:20170326T020000
END:DAYLIGHT
END:VTIMEZONE
BEGIN:VEVENT
UID:35333334-3961-4533-a433-353137636538
DTSTAMP:20260422T161847Z
CATEGORIES:2016
CLASS:PUBLIC
DESCRIPTION:
DTSTART:20160705T140000Z
DTEND:20160705T140000Z
GEO:+51.658218;+9.634026
LOCATION:Nebengebäude des Museums\, Uslar
ORGANIZER:
SEQUENCE:1
SUMMARY:Kreatives Schreiben für Kinder (Ferienspaß-Aktion)
TRANSP:OPAQUE
URL:https://literatur-kunstkreis-uslar.de/index.php/programm/archiv/85-krea
 tives-schreiben-fuer-kinder-ferienspass-aktion
END:VEVENT
END:VCALENDAR
