BEGIN:VCALENDAR
VERSION:2.0
PRODID:-//Literatur- und Kunstkreis Uslar e. V.//NONSGML kigkonsult.se iCalcreator 2.41.92//
CALSCALE:GREGORIAN
METHOD:PUBLISH
UID:32663465-3162-4566-a235-323936663037
X-WR-CALNAME:iCagenda
X-WR-CALDESC:Event Management Extension for Joomla!
X-WR-RELCALID:3E26604A-50F4-4449-8B3E-E4F4932D05B5
X-WR-TIMEZONE:Europe/Berlin
BEGIN:VTIMEZONE
TZID:Europe/Berlin
TZUNTIL:20180325T010000Z
BEGIN:STANDARD
TZNAME:CET
DTSTART:20151025T030000
TZOFFSETFROM:+0200
TZOFFSETTO:+0100
RDATE:20161030T030000
RDATE:20171029T030000
END:STANDARD
BEGIN:DAYLIGHT
TZNAME:CEST
DTSTART:20160327T020000
TZOFFSETFROM:+0100
TZOFFSETTO:+0200
RDATE:20170326T020000
END:DAYLIGHT
END:VTIMEZONE
BEGIN:VEVENT
UID:37623339-6166-4931-a261-613639306564
DTSTAMP:20260422T161500Z
CATEGORIES:2016
CLASS:PUBLIC
DESCRIPTION;ALTREP="CID:<FFFF__=0ABBE548DFE235B58f9e8a93d@coffeebean.com>":
 Der &auml\;gyptische Zitherspieler Hossam Shaker und die deutsche H&ouml\;
 rfunkjournalistin Jane H&ouml\;ck gehen in Andalusien auf literarisch-musi
 kalische Spurensuche. Musik-Wort- Collagen erz&auml\;hlen die Geschichte d
 es arabischen Spaniens.\nHossam Shaker lebt mit seiner Familie in Arenborn
 \, nicht weit von Uslar. Er ist international als musikalischer Friedensbo
 tschafter unterwegs.
DTSTART:20160819T180000Z
DTEND:20160819T180000Z
GEO:+51.658218;+9.634026
LOCATION:Museumsstübchen Uslar
ORGANIZER:
SEQUENCE:1
SUMMARY:Tausendundeine Nacht
TRANSP:OPAQUE
URL:https://literatur-kunstkreis-uslar.de/index.php/programm/archiv/86-taus
 endundeine-nacht
END:VEVENT
END:VCALENDAR
