BEGIN:VCALENDAR
VERSION:2.0
PRODID:-//Literatur- und Kunstkreis Uslar e. V.//NONSGML kigkonsult.se iCalcreator 2.41.92//
CALSCALE:GREGORIAN
METHOD:PUBLISH
UID:36313762-6465-4762-b562-346562383661
X-WR-CALNAME:iCagenda
X-WR-CALDESC:Event Management Extension for Joomla!
X-WR-RELCALID:3E26604A-50F4-4449-8B3E-E4F4932D05B5
X-WR-TIMEZONE:Europe/Berlin
BEGIN:VTIMEZONE
TZID:Europe/Berlin
TZUNTIL:20181028T010000Z
BEGIN:STANDARD
TZNAME:CET
DTSTART:20151025T030000
TZOFFSETFROM:+0200
TZOFFSETTO:+0100
RDATE:20161030T030000
RDATE:20171029T030000
END:STANDARD
BEGIN:DAYLIGHT
TZNAME:CEST
DTSTART:20160327T020000
TZOFFSETFROM:+0100
TZOFFSETTO:+0200
RDATE:20170326T020000
RDATE:20180325T020000
END:DAYLIGHT
END:VTIMEZONE
BEGIN:VEVENT
UID:37333764-3038-4538-b035-376536653162
DTSTAMP:20260422T161622Z
CATEGORIES:2016
CLASS:PUBLIC
DESCRIPTION;ALTREP="CID:<FFFF__=0ABBE548DFE235B58f9e8a93d@coffeebean.com>":
 Hinweis:Als Ersatzveranstaltung gibt es 'Die B&uuml\;hnenst&uuml\;rmer' mi
 t dem St&uuml\;ck 'Die Wilddiebe vom Solling' (23.09.2016 um 19:30 Uhr)
DTSTART:20160923T173000Z
DTEND:20160923T173000Z
GEO:+51.67968;+9.640596
LOCATION:Gasthaus 'Zur Erholung'\, Uslar-Eschershausen
ORGANIZER:
SEQUENCE:1
SUMMARY:!!! Achtung Programmänderung  !!! Termin entfällt: Der eingebildete
  Kranke
TRANSP:OPAQUE
URL:https://literatur-kunstkreis-uslar.de/index.php/programm/archiv/87-acht
 ung-termin-entfaellt-der-eingebildete-kranke
END:VEVENT
END:VCALENDAR
