BEGIN:VCALENDAR
VERSION:2.0
PRODID:-//Literatur- und Kunstkreis Uslar e. V.//NONSGML kigkonsult.se iCalcreator 2.41.92//
CALSCALE:GREGORIAN
METHOD:PUBLISH
UID:66653466-6566-4262-a230-376165626266
X-WR-CALNAME:iCagenda
X-WR-CALDESC:Event Management Extension for Joomla!
X-WR-RELCALID:3E26604A-50F4-4449-8B3E-E4F4932D05B5
X-WR-TIMEZONE:Europe/Berlin
BEGIN:VTIMEZONE
TZID:Europe/Berlin
TZUNTIL:20181028T010000Z
BEGIN:STANDARD
TZNAME:CET
DTSTART:20151025T030000
TZOFFSETFROM:+0200
TZOFFSETTO:+0100
RDATE:20161030T030000
RDATE:20171029T030000
END:STANDARD
BEGIN:DAYLIGHT
TZNAME:CEST
DTSTART:20160327T020000
TZOFFSETFROM:+0100
TZOFFSETTO:+0200
RDATE:20170326T020000
RDATE:20180325T020000
END:DAYLIGHT
END:VTIMEZONE
BEGIN:VEVENT
UID:62373835-3464-4462-a530-366339616633
DTSTAMP:20260422T161806Z
CATEGORIES:2016
CLASS:PUBLIC
DESCRIPTION;ALTREP="CID:<FFFF__=0ABBE548DFE235B58f9e8a93d@coffeebean.com>":
 Hinweis:Ersatzveranstaltung f&uuml\;r 'Der eingebildete Kranke' (23.09.201
 6 um 19:30 Uhr)\n&nbsp\;\nDas Theater 'Die B&uuml\;hnenst&uuml\;rmer' grei
 ft in seiner neuen Produktion ein geschichtstr&auml\;chtiges Thema aus der
  Region auf: 'Die Wilddiebe vom Solling'. Weit &uuml\;ber die Grenzen des 
 Mittelgebirges hinaus\, sind die Anekdoten von Wilderern und F&ouml\;rster
 n\, vom 'Roten Bartels' und seinen Kontrahenten bekannt\, die Prozesse in 
 Hannover und G&ouml\;ttingen\, die der Wilddieberei den Gar ausmachen soll
 ten\, sind heute noch vielfach dokumentiert. Im Schwank der 'B&uuml\;hnens
 t&uuml\;rmer' wird das Thema aus der historischen Distanz weniger ernst\, 
 sondern ganz im Sinne des Volkstheaters mit einem Augenzwinkern auf die B&
 uuml\;hne gebracht: schwungvoll\, lustig und mit Happy-End. Und ein Gesang
 sverein\, der die Heimat preist\, darf nat&uuml\;rlich in einer solchen Po
 sse genausowenig fehlen\, wie ein F&ouml\;rster\, der seine gro&szlig\;e L
 iebe findet und ein Hirsch gar\, der so manche Verwirrung stiftet.  Das En
 semble der 'B&uuml\;hnenst&uuml\;rmer' mit Conny Anders\, Caro Over\, Klau
 s Hamann\, Felicia Herbst\, Inga Lehmann\, Sven Michel\, Joseph Smith\, Ly
 dia Weighardt und Jan Phillip Zillich wird dieses Mal erg&auml\;nzt durch 
 den Inhaber von &sbquo\;La casa&rsquo\; Klaus Veit und dem in Einbeck beka
 nnten Wirt Eberhard (Ebby) Thies. Die Ausstattung besorgt Klaus Hamann\, d
 er Text stammt aus dem Buch 'Ritter\, Hexen\, Wilderer' von B. K. Jerofke\
 , der auch die Inszenierung inne hat.
DTSTART:20160923T173000Z
DTEND:20160923T173000Z
GEO:+51.67968;+9.640596
LOCATION:Gasthaus 'Zur Erholung'\, Uslar-Eschershausen
ORGANIZER:
SEQUENCE:1
SUMMARY:!!! Achtung Programmänderung !!! Neu im Programm: 'Die Wilddiebe vo
 m Solling' - Die Bühnenstürmer
TRANSP:OPAQUE
URL:https://literatur-kunstkreis-uslar.de/index.php/programm/archiv/88-neu-
 im-programm-die-wilddiebe-vom-solling-die-buehnenstuermer
END:VEVENT
END:VCALENDAR
