BEGIN:VCALENDAR
VERSION:2.0
PRODID:-//Literatur- und Kunstkreis Uslar e. V.//NONSGML kigkonsult.se iCalcreator 2.41.92//
CALSCALE:GREGORIAN
METHOD:PUBLISH
UID:34653064-6565-4939-b039-633261393031
X-WR-CALNAME:iCagenda
X-WR-CALDESC:Event Management Extension for Joomla!
X-WR-RELCALID:3E26604A-50F4-4449-8B3E-E4F4932D05B5
X-WR-TIMEZONE:Europe/Berlin
BEGIN:VTIMEZONE
TZID:Europe/Berlin
TZUNTIL:20111030T010000Z
BEGIN:STANDARD
TZNAME:CET
DTSTART:20091025T030000
TZOFFSETFROM:+0200
TZOFFSETTO:+0100
RDATE:20101031T030000
END:STANDARD
BEGIN:DAYLIGHT
TZNAME:CEST
DTSTART:20090329T020000
TZOFFSETFROM:+0100
TZOFFSETTO:+0200
RDATE:20100328T020000
RDATE:20110327T020000
END:DAYLIGHT
END:VTIMEZONE
BEGIN:VEVENT
UID:39336339-6235-4730-a537-356538326166
DTSTAMP:20260422T150715Z
CATEGORIES:2009
CLASS:PUBLIC
DESCRIPTION;ALTREP="CID:<FFFF__=0ABBE548DFE235B58f9e8a93d@coffeebean.com>":
 27. Oktober 2009: Axel Hacke liest in Uslar 'Wumbabas Vermächtnis' und and
 ere Texte aus den kleinen Handbüchern des 'Verhörens'.  Forum Gymnasium Us
 lar 20.00 Uhr  Veranstalter: Literatur- u. Kunstkreis Uslar e.V. (LuK) www
 .literatur-kunstkreis-uslar.de  Exklusive Vorverkaufspreise: 15\,- € / Mit
 glieder des LuK 12\,- € / ermäßigt: 5\,- €  Abendkasse: 17\,- € / 12\,- € 
 / 6\,- €  Vorverkaufsstellen in Uslar: Buchhandlung Henze Bücherwurm Touri
 stik-Information (info@uslarer-land.de)  Wo gibt´s denn weiße Neger?  Wie 
 konnte man Axel Hacke nur so falsch verstehen? In Göttingen wurde bei eine
 r Lesung des Autors im November 2007 Kritik laut. Die Kritiker formulierte
 n im Rahmen einer Demonstration\, der Ausdruck 'weißer Neger' und die dazu
 gehörige Darstellung sei eine Reproduktion rassistischer und diskriminiere
 nder Stereotype.(Quelle: http://de.wikipedia.org)  Aber so war es gar nich
 t gemeint\, denn die Herkunft des mittlerweile legendären weißen Negers er
 klärt sich anders – von Rassismus keine Spur. Es gibt verschiedene Ursache
 n für Missverständnisse\, eine davon ist das 'Verhören' und das wiederum h
 at nichts mit polizeilichen Ermittlungen zu tun. Der Mond ist aufgegangen\
 , (....) und aus den Wiesen steiget 'Der weiße Neger Wumbaba'.  Axel Hacke
  sammelt Verhörbeispiele und versteht es\, vom Phänomen des „Verhörens“ üb
 er den Sprachwitz bis in die Welt der Phantasie und schließlich zu den Ass
 oziationen vorzudringen\, die Gehörtes in Menschenohren und -hirnen bewirk
 en kann. Wer ihm zuhört\, lernt anders zu hören und neu zu verstehen. (K. 
 Bäthe)  Mehr Info unter:   http://www.tomprodukt.de/axel-hacke  Axel Hacke
  - 'Wumbabas Vermächtnis'  Der dritte und letzte Teil der Trilogie  Das is
 t einfach WUMBABA! So hört man es inzwischen landauf\, landab. Was gemeint
  ist? Keine Frage! Es ist wunderbar\, was für Phantasiegestalten durch sch
 lichtes Verhören entstehen. Seit Axel Hackes Bestsellern 'Der weiße Neger 
 Wumbaba' und 'Der weiße Neger Wumbaba kehrt zurück' ist das Verhören zum V
 olkssport geworden. Alle haben sich schon mal verhört und finden Gehör\, i
 m Radio zum Beispiel: Praktisch jeder deutsche Sender hat nun seinen 'Verh
 ör-Hammer'\, die „Agathe-Bauer-Songs“ oder ähnliches im Programm\, mit mas
 senhafter Beteiligung des Publikums. Ist das nicht WUMBABA?  Im dritten\, 
 abschließenden Band seiner kleinen Trilogie beschäftigt sich Axel Hacke mi
 t Wumbabas Vermächtnis\, das in die Tiefen der Phantasie zielt und in die 
 Sprachverwirrung einer modernen Gesellschaft. Ein Vermächtnis\, in dem das
  gesamte internationale Liedgut erfasst wird und zu den schönsten Geschich
 ten beflügelt. Was meint Peter Maffay\, wenn er singt: 'Sieben Donkleare m
 usst du überstehn.' Wie kommt Arafat ins Grugabad? Warum hat Herbert Gröne
 meyer 'Fruchtzwerge' in seinem Bauch? Wie fand Howard Carpendale 'Schweine
 spuren im Sand'? Warum singt Elvis 'I get so lonely\, Nackedei'? Worin bes
 teht der Heizplan Gottes? Und wer\, bitte sehr\, trägt Wumbabas Vermächtni
 s in die Zukunft?  Es sind\, dies wollen wir hier schon verraten\, seine n
 euen Freunde: der Waldzwerg aus dem Walzwerk\, der Kuhfürst und seine Bull
 en\, das Ejakulationsteam\, das Gottestier\, das heilige Geißlein\, der Kä
 fer Otto Peter\, das Entchen von Tharau\, Opa Dong und auch Arrivi\, der T
 schiroma. Lang sollen sie leben und uns begleiten immerdar. In den Geschic
 hten von Axel Hacke.  Axel Hacke ist ein Sprachgenießer\, kein Sprachdogma
 tiker. Und er hat sich einen hinreißend federnden Stil geschaffen\, mit de
 m er diese Freude ins Hirn des Lesers trägt. Die Literarische Welt
DTSTART:20091027T190000Z
DTEND:20091027T190000Z
GEO:+51.666843;+9.632701
LOCATION:Forum des Gymnasiums Uslar
ORGANIZER:
SEQUENCE:1
SUMMARY:Axel Hacke liest 'Wumbabas Vermächtnis'
TRANSP:OPAQUE
URL:https://literatur-kunstkreis-uslar.de/index.php/programm/archiv/9-axel-
 hacke-liest-wumbabas-vermaechtnis
END:VEVENT
END:VCALENDAR
